BEGIN:VCALENDAR
VERSION:2.0
PRODID:-//Medicinema Italia - ECPv6.15.20//NONSGML v1.0//EN
CALSCALE:GREGORIAN
METHOD:PUBLISH
X-ORIGINAL-URL:https://www.medicinema-italia.org
X-WR-CALDESC:Eventi per Medicinema Italia
REFRESH-INTERVAL;VALUE=DURATION:PT1H
X-Robots-Tag:noindex
X-PUBLISHED-TTL:PT1H
BEGIN:VTIMEZONE
TZID:Europe/Rome
BEGIN:DAYLIGHT
TZOFFSETFROM:+0100
TZOFFSETTO:+0200
TZNAME:CEST
DTSTART:20160327T010000
END:DAYLIGHT
BEGIN:STANDARD
TZOFFSETFROM:+0200
TZOFFSETTO:+0100
TZNAME:CET
DTSTART:20161030T010000
END:STANDARD
BEGIN:DAYLIGHT
TZOFFSETFROM:+0100
TZOFFSETTO:+0200
TZNAME:CEST
DTSTART:20170326T010000
END:DAYLIGHT
BEGIN:STANDARD
TZOFFSETFROM:+0200
TZOFFSETTO:+0100
TZNAME:CET
DTSTART:20171029T010000
END:STANDARD
BEGIN:DAYLIGHT
TZOFFSETFROM:+0100
TZOFFSETTO:+0200
TZNAME:CEST
DTSTART:20180325T010000
END:DAYLIGHT
BEGIN:STANDARD
TZOFFSETFROM:+0200
TZOFFSETTO:+0100
TZNAME:CET
DTSTART:20181028T010000
END:STANDARD
END:VTIMEZONE
BEGIN:VEVENT
DTSTART;TZID=Europe/Rome:20170405T161500
DTEND;TZID=Europe/Rome:20170405T161500
DTSTAMP:20260425T152802
CREATED:20170306T144323Z
LAST-MODIFIED:20170306T144323Z
UID:3422-1491408900-1491408900@www.medicinema-italia.org
SUMMARY:Captain Fantastic
DESCRIPTION:GENERE:\nCommedia\n\n\nDURATA:\n118 min\n\n\nTRAMA:\nBen vive con la moglie e i sei figli\, isolato dal mondo nelle foreste del Pacifico nord-occidentale. Cerca di crescere i suoi figli nel migliore dei modi\, infondendo in essi una connessione primordiale con la natura. Quando una tragedia colpisce la famiglia\, Ben è costretto suo malgrado a lasciare la vita che si era creato\, per affrontare il mondo reale\, fatto di pericoli ed emozioni che i suoi figli non conoscono.\n\n\n\n	\n										\n							\n								\n									\n									Share on Facebook\n									Share\n								\n															\n						\n										\n						\n							\n								\n								Share on TwitterTweet\n							\n													\n					\n										\n						\n							\n								Share on LinkedIn\n								Share\n							\n						\n					\n										\n						\n							\n								\n								Send email\n								Mail
URL:https://www.medicinema-italia.org/evento/captain-fantastic/
LOCATION:Ospedale Maggiore Niguarda – Nemo\, Piazza dell'ospedale maggiore 3\, Milano\, 20162
CATEGORIES:Niguarda,Progetto Nemo,Proiezioni
ATTACH;FMTTYPE=image/jpeg:https://www.medicinema-italia.org/wp-content/uploads/2017/03/captain-fantastic.jpg
END:VEVENT
BEGIN:VEVENT
DTSTART;TZID=Europe/Rome:20170406T161500
DTEND;TZID=Europe/Rome:20170406T161500
DTSTAMP:20260425T152802
CREATED:20170306T162408Z
LAST-MODIFIED:20170306T162408Z
UID:3456-1491495300-1491495300@www.medicinema-italia.org
SUMMARY:Lion - La strada verso casa
DESCRIPTION:GENERE:\nDrammatico\n\n\nDURATA:\n129 MIN\n\n\nTRAMA:\nIl film racconta l’incredibile storia vera di Saroo\, un bambino di Madras in India che a 5 anni finisce sul treno sbagliato e si perde a Calcutta. Viene ritrovato dalle autorità ma non riesce a spiegare il suo luogo di provenienza\, ha soltanto in mente l’immagine della stazione dalla quale era partito. Viene quindi adottato da una coppia australiana. Molti anni dopo\, ormai adulto\, decide utilizzando Google Earth\, di analizzare una per una tutte le stazioni ferroviarie dell’India finché non riesce a trovare quella giusta…\n\n\nUSCITA CINEMA:\n22/12/2016\n\n\nREGIA:\nGarth Davis\n\n\nCAST: \nDev Patel\, Rooney Mara\, Nicole Kidman\n\n\n\n	\n										\n							\n								\n									\n									Share on Facebook\n									Share\n								\n															\n						\n										\n						\n							\n								\n								Share on TwitterTweet\n							\n													\n					\n										\n						\n							\n								Share on LinkedIn\n								Share\n							\n						\n					\n										\n						\n							\n								\n								Send email\n								Mail
URL:https://www.medicinema-italia.org/evento/lion-la-strada-verso-casa/
LOCATION:Ospedale Maggiore Niguarda – Spazio Vita\, Piazza dell'ospedale maggiore 3\, Milano\, 20162
CATEGORIES:Niguarda,Proiezioni,Spazio Vita
ATTACH;FMTTYPE=image/jpeg:https://www.medicinema-italia.org/wp-content/uploads/2017/03/lion-strada-verso-casa.jpg
END:VEVENT
BEGIN:VEVENT
DTSTART;TZID=Europe/Rome:20170412T161500
DTEND;TZID=Europe/Rome:20170412T161500
DTSTAMP:20260425T152802
CREATED:20170306T144528Z
LAST-MODIFIED:20170306T144528Z
UID:3425-1492013700-1492013700@www.medicinema-italia.org
SUMMARY:Scusate se esisto
DESCRIPTION:GENERE:\nCommedia\n\n\nDURATA:\n106 min\n\n\nTRAMA:\nSerena è un architetto dal talento straordinario. Dopo una serie di successi professionali all’estero\, ha deciso di tornare a lavorare in Italia\, perché ama il suo paese. Nell’avventurosa ricerca di un posto di lavoro si trova di fronte a una scelta folle\, farsi passare per quello che tutti si aspettano che lei sia: un uomo…O così pare. Nel frattempo incontra Francesco. Bello e affascinante. Il compagno ideale. Se non fosse che a lui non piacciono le donne… O così pare. Tra Serena e Francesco nasce un rapporto intenso e diventano la coppia perfetta… Pronti a tutto pur di darsi una mano saranno costretti a condividere segreti e inganni perché a volte\, per essere davvero se stessi\, è meglio fingersi qualcun altro!\n\n\n\n	\n										\n							\n								\n									\n									Share on Facebook\n									Share\n								\n															\n						\n										\n						\n							\n								\n								Share on TwitterTweet\n							\n													\n					\n										\n						\n							\n								Share on LinkedIn\n								Share\n							\n						\n					\n										\n						\n							\n								\n								Send email\n								Mail
URL:https://www.medicinema-italia.org/evento/scusate-se-esisto/
LOCATION:Ospedale Maggiore Niguarda – Nemo\, Piazza dell'ospedale maggiore 3\, Milano\, 20162
CATEGORIES:Niguarda,Progetto Nemo,Proiezioni
ATTACH;FMTTYPE=image/jpeg:https://www.medicinema-italia.org/wp-content/uploads/2017/03/scusate-se-esisto.jpg
END:VEVENT
BEGIN:VEVENT
DTSTART;TZID=Europe/Rome:20170413T161500
DTEND;TZID=Europe/Rome:20170413T161500
DTSTAMP:20260425T152802
CREATED:20170306T162941Z
LAST-MODIFIED:20170306T162941Z
UID:3459-1492100100-1492100100@www.medicinema-italia.org
SUMMARY:Il medico di campagna
DESCRIPTION:GENERE:\nCommedia\, Drammatico\n\n\nDURATA:\n102 MIN\n\n\nTRAMA:\nTutti gli abitanti di un paesino di campagna possono contare su Jean-Pierre\, il medico che li ascolta\, li cura e li rassicura giorno e notte\, sette giorni su sette. Malato a sua volta\, Jean-Pierre assiste all’arrivo di Nathalie\, che esercita la professione medica da poco tempo e ha lasciato l’ospedale dove lavorava per affiancarlo. Ma riuscirà ad adattarsi a questa nuova vita e a sostituire colui che si ritiene… Insostituibile?\n\n\nUSCITA CINEMA:\n22/12/2016\n\n\nREGIA:\nThomas Lilti\n\n\nCAST:\nFrançois Cluzet\, Marianne Denicourt\, Christophe Odent\n\n\n\n	\n										\n							\n								\n									\n									Share on Facebook\n									Share\n								\n															\n						\n										\n						\n							\n								\n								Share on TwitterTweet\n							\n													\n					\n										\n						\n							\n								Share on LinkedIn\n								Share\n							\n						\n					\n										\n						\n							\n								\n								Send email\n								Mail
URL:https://www.medicinema-italia.org/evento/il-medico-di-campagna/
LOCATION:Ospedale Maggiore Niguarda – Spazio Vita\, Piazza dell'ospedale maggiore 3\, Milano\, 20162
CATEGORIES:Niguarda,Proiezioni,Spazio Vita
ATTACH;FMTTYPE=image/jpeg:https://www.medicinema-italia.org/wp-content/uploads/2017/03/il-medico-campagna.jpg
END:VEVENT
BEGIN:VEVENT
DTSTART;TZID=Europe/Rome:20170419T161500
DTEND;TZID=Europe/Rome:20170419T161500
DTSTAMP:20260425T152802
CREATED:20170306T144728Z
LAST-MODIFIED:20170306T144728Z
UID:3428-1492618500-1492618500@www.medicinema-italia.org
SUMMARY:In solitario
DESCRIPTION:GENERE:\nAvventura\n\n\nDURATA:\n97 min\n\n\nTRAMA:\nLo skipper Yann Kermadec realizza il proprio sogno quando viene ripescato a causa del forfait di un concorrente per il Vendée Globe. Dopo alcuni giorni di gara\, Yann è costretto a fare una sosta forzata per riparare il suo timone danneggiato. Il suo tour mondiale sarà sconvolto…\n\n\n\n	\n										\n							\n								\n									\n									Share on Facebook\n									Share\n								\n															\n						\n										\n						\n							\n								\n								Share on TwitterTweet\n							\n													\n					\n										\n						\n							\n								Share on LinkedIn\n								Share\n							\n						\n					\n										\n						\n							\n								\n								Send email\n								Mail
URL:https://www.medicinema-italia.org/evento/in-solitario/
LOCATION:Ospedale Maggiore Niguarda – Nemo\, Piazza dell'ospedale maggiore 3\, Milano\, 20162
CATEGORIES:Niguarda,Progetto Nemo,Proiezioni
ATTACH;FMTTYPE=image/jpeg:https://www.medicinema-italia.org/wp-content/uploads/2017/03/in-solitario.jpg
END:VEVENT
BEGIN:VEVENT
DTSTART;TZID=Europe/Rome:20170420T161500
DTEND;TZID=Europe/Rome:20170420T161500
DTSTAMP:20260425T152802
CREATED:20170306T163415Z
LAST-MODIFIED:20170420T130619Z
UID:3462-1492704900-1492704900@www.medicinema-italia.org
SUMMARY:Beata Ignoranza
DESCRIPTION:GENERE:\nCommedia\n\n\nDURATA:\n102 MIN\n\n\nTRAMA:\nLa commedia racconta le vicende i due nemici/amici\, insegnanti di liceo\, che si sfidano in una divertente commedia su una problematica attualissima: è giusta o no questa dipendenza dai social network? E’ vera comunicazione o solo condivisione di superficialità? Diverse le idee dei protagonisti del film: se Gassmann è assolutamente integrato nella modernità\, Giallini è un uomo all’antica sostenitore dei “vecchi tempi”. Così\, tra gag esilaranti e riflessioni profonde\, i due professori arriveranno a scambiarsi le vite per sostenere la propria tesi.\n\n\nUSCITA CINEMA:\n23/02/2017\n\n\nREGIA:\nMassimiliano Bruno\n\n\nCAST:\nMarco Giallini\, Alessandro Gassmann\n\n\n\n	\n										\n							\n								\n									\n									Share on Facebook\n									Share\n								\n															\n						\n										\n						\n							\n								\n								Share on TwitterTweet\n							\n													\n					\n										\n						\n							\n								Share on LinkedIn\n								Share\n							\n						\n					\n										\n						\n							\n								\n								Send email\n								Mail
URL:https://www.medicinema-italia.org/evento/beata-ignoranza-2/
LOCATION:Ospedale Maggiore Niguarda – Spazio Vita\, Piazza dell'ospedale maggiore 3\, Milano\, 20162
CATEGORIES:Niguarda,Proiezioni,Spazio Vita
ATTACH;FMTTYPE=image/jpeg:https://www.medicinema-italia.org/wp-content/uploads/2017/03/beata-ignoranza.jpg
END:VEVENT
BEGIN:VEVENT
DTSTART;TZID=Europe/Rome:20170426T161500
DTEND;TZID=Europe/Rome:20170426T161500
DTSTAMP:20260425T152802
CREATED:20170306T144935Z
LAST-MODIFIED:20170306T144935Z
UID:3431-1493223300-1493223300@www.medicinema-italia.org
SUMMARY:Ti ricordi di me?
DESCRIPTION:GENERE:\nCommedia\n\n\nDURATA:\n91 min\n\n\nTRAMA:\nTi ricordi di me? è una commedia romantica che ha inizio con l’incontro tra Roberto\, autore di surreali e sfortunate favole nere\, e Bea\, insegnante elementare\, elegante e apparentemente svagata\, davanti al portone della terapista che li ha in cura entrambi. Roberto è cleptomane\, Bea invece soffre di una seria forma di narcolessia e di improvvise\, quanto imprevedibili\, amnesie. Ha inizio da subito un corteggiamento tenace e buffo\, che finirà per farla innamorare. Tra piccoli furti e svenimenti\, fughe e rincorse\, la loro storia d’amore gli offrirà forse anche la possibilità di guarire.\n\n\n\n	\n										\n							\n								\n									\n									Share on Facebook\n									Share\n								\n															\n						\n										\n						\n							\n								\n								Share on TwitterTweet\n							\n													\n					\n										\n						\n							\n								Share on LinkedIn\n								Share\n							\n						\n					\n										\n						\n							\n								\n								Send email\n								Mail
URL:https://www.medicinema-italia.org/evento/ti-ricordi-di-me/
LOCATION:Ospedale Maggiore Niguarda – Nemo\, Piazza dell'ospedale maggiore 3\, Milano\, 20162
CATEGORIES:Niguarda,Progetto Nemo,Proiezioni
ATTACH;FMTTYPE=image/jpeg:https://www.medicinema-italia.org/wp-content/uploads/2017/03/ti-ricordi-di-me.jpg
END:VEVENT
BEGIN:VEVENT
DTSTART;TZID=Europe/Rome:20170427T161500
DTEND;TZID=Europe/Rome:20170427T161500
DTSTAMP:20260425T152802
CREATED:20170306T163820Z
LAST-MODIFIED:20170306T163820Z
UID:3465-1493309700-1493309700@www.medicinema-italia.org
SUMMARY:Beata ignoranza
DESCRIPTION:GENERE:\nCommedia\n\n\nDURATA:\n102 MIN\n\n\nTRAMA:\nLa commedia racconta le vicende i due nemici/amici\, insegnanti di liceo\, che si sfidano in una divertente commedia su una problematica attualissima: è giusta o no questa dipendenza dai social network? E’ vera comunicazione o solo condivisione di superficialità? Diverse le idee dei protagonisti del film: se Gassmann è assolutamente integrato nella modernità\, Giallini è un uomo all’antica sostenitore dei “vecchi tempi”. Così\, tra gag esilaranti e riflessioni profonde\, i due professori arriveranno a scambiarsi le vite per sostenere la propria tesi.\n\n\nUSCITA CINEMA:\n23/02/2017\n\n\nREGIA:\nMassimiliano Bruno\n\n\nCAST:\nMarco Giallini\, Alessandro Gassmann\n\n\n\n	\n										\n							\n								\n									\n									Share on Facebook\n									Share\n								\n															\n						\n										\n						\n							\n								\n								Share on TwitterTweet\n							\n													\n					\n										\n						\n							\n								Share on LinkedIn\n								Share\n							\n						\n					\n										\n						\n							\n								\n								Send email\n								Mail
URL:https://www.medicinema-italia.org/evento/beata-ignoranza/
LOCATION:Ospedale Maggiore Niguarda – Spazio Vita\, Piazza dell'ospedale maggiore 3\, Milano\, 20162
CATEGORIES:Niguarda,Proiezioni,Spazio Vita
ATTACH;FMTTYPE=image/jpeg:https://www.medicinema-italia.org/wp-content/uploads/2017/03/beata-ignoranza.jpg
END:VEVENT
END:VCALENDAR