BEGIN:VCALENDAR
VERSION:2.0
PRODID:-//Medicinema Italia - ECPv6.15.20//NONSGML v1.0//EN
CALSCALE:GREGORIAN
METHOD:PUBLISH
X-ORIGINAL-URL:https://www.medicinema-italia.org
X-WR-CALDESC:Eventi per Medicinema Italia
REFRESH-INTERVAL;VALUE=DURATION:PT1H
X-Robots-Tag:noindex
X-PUBLISHED-TTL:PT1H
BEGIN:VTIMEZONE
TZID:Europe/Rome
BEGIN:DAYLIGHT
TZOFFSETFROM:+0100
TZOFFSETTO:+0200
TZNAME:CEST
DTSTART:20160327T010000
END:DAYLIGHT
BEGIN:STANDARD
TZOFFSETFROM:+0200
TZOFFSETTO:+0100
TZNAME:CET
DTSTART:20161030T010000
END:STANDARD
BEGIN:DAYLIGHT
TZOFFSETFROM:+0100
TZOFFSETTO:+0200
TZNAME:CEST
DTSTART:20170326T010000
END:DAYLIGHT
BEGIN:STANDARD
TZOFFSETFROM:+0200
TZOFFSETTO:+0100
TZNAME:CET
DTSTART:20171029T010000
END:STANDARD
BEGIN:DAYLIGHT
TZOFFSETFROM:+0100
TZOFFSETTO:+0200
TZNAME:CEST
DTSTART:20180325T010000
END:DAYLIGHT
BEGIN:STANDARD
TZOFFSETFROM:+0200
TZOFFSETTO:+0100
TZNAME:CET
DTSTART:20181028T010000
END:STANDARD
END:VTIMEZONE
BEGIN:VEVENT
DTSTART;TZID=Europe/Rome:20170503T161500
DTEND;TZID=Europe/Rome:20170503T161500
DTSTAMP:20260425T134509
CREATED:20170306T150538Z
LAST-MODIFIED:20170306T150553Z
UID:3436-1493828100-1493828100@www.medicinema-italia.org
SUMMARY:Tutto può accadere a Broadway
DESCRIPTION:GENERE:\nCommedia\n\n\nDURATA:\n93 MIN\n\n\nTRAMA:\nNew York. Arnold Albertson\, un regista di successo teatrale e televisivo\, arriva nella Grande Mela per mettere in scena la sua ultima produzione di Broadway. La protagonista dello spettacolo sarà sua moglie\, accanto a lei il divo del cinema Seth Gilbert. La prima sera che Arnold si trova a New York\, chiede la compagnia di una escort a un servizio apposito\, che gli manda una giovane e affascinante ragazza: Isabella. Nel corso della serata Arnold le regala 20mila dollari; in cambio però Isabella dovrà lasciare il suo lavoro e intraprendere la carriera dei suoi sogni\, quella di attrice\n\n\nUSCITA CINEMA:\n29/10/2015\n\n\nREGIA:\nPeter Bogdanovich\n\n\nCAST: \nImogen Poots\, Jennifer Aniston\, Kathryn Hahn\, Owen Wilson\, Lucy Punch\n\n\n\n	\n										\n							\n								\n									\n									Share on Facebook\n									Share\n								\n															\n						\n										\n						\n							\n								\n								Share on TwitterTweet\n							\n													\n					\n										\n						\n							\n								Share on LinkedIn\n								Share\n							\n						\n					\n										\n						\n							\n								\n								Send email\n								Mail
URL:https://www.medicinema-italia.org/evento/tutto-puo-accadere-broadway/
LOCATION:Ospedale Maggiore Niguarda – Nemo\, Piazza dell'ospedale maggiore 3\, Milano\, 20162
CATEGORIES:Niguarda,Progetto Nemo,Proiezioni
ATTACH;FMTTYPE=image/jpeg:https://www.medicinema-italia.org/wp-content/uploads/2017/03/tutto-puo-accadere-a-broadway.jpg
END:VEVENT
BEGIN:VEVENT
DTSTART;TZID=Europe/Rome:20170504T161500
DTEND;TZID=Europe/Rome:20170504T161500
DTSTAMP:20260425T134509
CREATED:20170306T164522Z
LAST-MODIFIED:20170306T165141Z
UID:3472-1493914500-1493914500@www.medicinema-italia.org
SUMMARY:I guardiani della Galassia 2
DESCRIPTION:GENERE:\nAzione\n\n\nTRAMA:\nAl ritmo di una nuova\, fantastica raccolta di brani musicali (Awesome Mixtape #2)\, Guardiani della Galassia Vol. 2\, racconta le nuove avventure dei Guardiani\, stavolta alle prese con il mistero che avvolge le vere origini di Peter Quill. Scritto e diretto nuovamente da James Gunn\, Guardiani della Galassia Vol. 2 vede il ritorno dei Guardiani originali\, fra cui Chris Pratt nel ruolo di Peter Quill/Star-Lord\, Zoe Saldana nei panni di Gamora\, Dave Bautista nella parte di Drax\, Michael Rooker nel ruolo di Yondu\, Karen Gillan in quello di Nebula\, mentre Sean Gunn torna a interpretare Kraglin. Nella versione originale del film\, Vin Diesel e Bradley Cooper prestano la propria voce rispettivamente ai personaggi di Groot e Rocket. Il cast include inoltre Pom Klementieff\, Elizabeth Debicki\, Chris Sullivan e Kurt Russell\n\n\nUSCITA CINEMA:\n27/04/2017\n\n\n\n	\n										\n							\n								\n									\n									Share on Facebook\n									Share\n								\n															\n						\n										\n						\n							\n								\n								Share on TwitterTweet\n							\n													\n					\n										\n						\n							\n								Share on LinkedIn\n								Share\n							\n						\n					\n										\n						\n							\n								\n								Send email\n								Mail
URL:https://www.medicinema-italia.org/evento/guardiani-della-galassia-2-2/
LOCATION:Ospedale Maggiore Niguarda – Spazio Vita\, Piazza dell'ospedale maggiore 3\, Milano\, 20162
CATEGORIES:Niguarda,Proiezioni,Spazio Vita
ATTACH;FMTTYPE=image/jpeg:https://www.medicinema-italia.org/wp-content/uploads/2017/03/guardiani-della-galassia.jpg
END:VEVENT
BEGIN:VEVENT
DTSTART;TZID=Europe/Rome:20170504T161500
DTEND;TZID=Europe/Rome:20170504T161500
DTSTAMP:20260425T134509
CREATED:20170522T084406Z
LAST-MODIFIED:20170522T084406Z
UID:3753-1493914500-1493914500@www.medicinema-italia.org
SUMMARY:Moglie e marito
DESCRIPTION:GENERE:\nCommedia\n\n\nTRAMA:\nAndrea e Sofia sono una bella coppia\, anzi lo erano. Sposati da dieci anni\, in piena crisi\, pensano al divorzio. Ma a seguito di un esperimento scientifico di Andrea si ritrovano improvvisamente uno dentro il corpo dell’altra. Letteralmente. Andrea è Sofia e Sofia è Andrea. Senza alcuna scelta se non quella di vivere ognuno l’esistenza e la quotidianità dell’altro. Lei nei panni di lui\, geniale neurochirurgo che porta avanti una sperimentazione sul cervello umano\, lui nei panni di lei\, ambiziosa conduttrice televisiva in ascesa.\n\n\nUSCITA CINEMA:\n12/04/2017\n\n\n\n	\n										\n							\n								\n									\n									Share on Facebook\n									Share\n								\n															\n						\n										\n						\n							\n								\n								Share on TwitterTweet\n							\n													\n					\n										\n						\n							\n								Share on LinkedIn\n								Share\n							\n						\n					\n										\n						\n							\n								\n								Send email\n								Mail
URL:https://www.medicinema-italia.org/evento/moglie-e-marito/
LOCATION:Ospedale Maggiore Niguarda – Spazio Vita\, Piazza dell'ospedale maggiore 3\, Milano\, 20162
CATEGORIES:Niguarda,Proiezioni,Spazio Vita
ATTACH;FMTTYPE=image/jpeg:https://www.medicinema-italia.org/wp-content/uploads/2017/05/Moglie-e-marito.jpg
END:VEVENT
BEGIN:VEVENT
DTSTART;TZID=Europe/Rome:20170510T161500
DTEND;TZID=Europe/Rome:20170510T161500
DTSTAMP:20260425T134509
CREATED:20170306T151258Z
LAST-MODIFIED:20170306T151258Z
UID:3439-1494432900-1494432900@www.medicinema-italia.org
SUMMARY:L'abbiamo fatta grossa
DESCRIPTION:GENERE:\nCommedia\n\n\nDURATA:\n112 MIN\n\n\nTRAMA:\nAntonio Albanese è Yuri Pelagatti\, un attore di teatro che\, traumatizzato dalla separazione\, non riesce più a ricordare le battute in scena. Carlo Verdone è Arturo Merlino\, un investigatore squattrinato che vive a casa della vecchia zia vedova. Yuri vuole le prove dell’infedeltà della ex moglie ed assume Arturo credendolo un super investigatore. Ma Arturo non ne fa una giusta! Per errore entrano in possesso di una misteriosa valigetta che contiene… 1 milione di euro!\n\n\nUSCITA CINEMA:\n29/01/2016\n\n\nREGIA:\nCarlo Verdone\n\n\nCAST: \nCarlo Verdone\, Antonio Albanese\, Anna Kasyan\, Francesca Fiume\, Clotilde Sabatino\n\, Federigo Ceci\n\n\n\n	\n										\n							\n								\n									\n									Share on Facebook\n									Share\n								\n															\n						\n										\n						\n							\n								\n								Share on TwitterTweet\n							\n													\n					\n										\n						\n							\n								Share on LinkedIn\n								Share\n							\n						\n					\n										\n						\n							\n								\n								Send email\n								Mail
URL:https://www.medicinema-italia.org/evento/abbiamo-fatta-grossa/
LOCATION:Ospedale Maggiore Niguarda – Nemo\, Piazza dell'ospedale maggiore 3\, Milano\, 20162
CATEGORIES:Niguarda,Progetto Nemo,Proiezioni
ATTACH;FMTTYPE=image/jpeg:https://www.medicinema-italia.org/wp-content/uploads/2017/03/abbiamo-fatta-grossa.jpg
END:VEVENT
BEGIN:VEVENT
DTSTART;TZID=Europe/Rome:20170511T161500
DTEND;TZID=Europe/Rome:20170511T161500
DTSTAMP:20260425T134509
CREATED:20170523T102751Z
LAST-MODIFIED:20170523T102751Z
UID:3775-1494519300-1494519300@www.medicinema-italia.org
SUMMARY:Guardiani della Galassia Vol. 2
DESCRIPTION:GENERE:\nAzione/Fantascienza\n\n\nTRAMA:\nGuardiani della Galassia 2 è il sequel dell’originale e scanzonato cinecomic diretto da James Gunn. Già dal titolo\, che ammicca all’Awesome Mixtape #2\, si capisce che è tempo di capovolgere la musicassetta vintage e scoprire il lato nascosto dei protagonisti del film che ha dato inizio al franchise. Il gruppo di eroi atipici e alieni singolari\, più che Guardiani della galassia\, svogliate sentinelle dello spazio\, si tuffa in una nuova avventura per scoprire l’identità del padre di Peter Quill/Star-Lord (Chris Pratt)\, lo spavaldo ladro spaziale incastrato suo malgrado nel ruolo di leader della sgangherata banda. Al fianco dell’impudente Star-Lord\, a ranghi sciolti\, tornano la bella e letale Gamora (Zoe Saldana)\, lo spietato Drax (Dave Bautista)\, l’irascibile Rocket (voce originale di Bradley Cooper) e ridotto a dimensioni bonsai l’indisciplinato\, scattante Baby Groot (con la voce originale di Vin Diesel). La storia segue l’evoluzione individuale di ciascun componente e il faticoso processo di consolidamento come gruppo e nucleo familiare\, cui si vanno aggiungendo nuovi personaggi\, nemici redenti e parenti scomodi saltati fuori dai più remoti anfratti dell’universo. Tra gli interpreti del film troviamo anche Michael Rooker nel ruolo di Yondu\, Karen Gillan in quello di Nebula\, mentre Sean Gunn torna a interpretare Kraglin. Il cast include inoltre Pom Klementieff\, Elizabeth Debicki\, Chris Sullivan e Kurt Russell nei panni di Ego\, il padre di Peter Quill.\n\n\nUSCITA CINEMA:\n25/04/2017\n\n\n\n	\n										\n							\n								\n									\n									Share on Facebook\n									Share\n								\n															\n						\n										\n						\n							\n								\n								Share on TwitterTweet\n							\n													\n					\n										\n						\n							\n								Share on LinkedIn\n								Share\n							\n						\n					\n										\n						\n							\n								\n								Send email\n								Mail
URL:https://www.medicinema-italia.org/evento/guardiani-della-galassia-vol-2/
LOCATION:Ospedale Maggiore Niguarda – Spazio Vita\, Piazza dell'ospedale maggiore 3\, Milano\, 20162
CATEGORIES:Niguarda,Proiezioni,Spazio Vita
ATTACH;FMTTYPE=image/jpeg:https://www.medicinema-italia.org/wp-content/uploads/2017/03/guardiani-della-galassia.jpg
END:VEVENT
BEGIN:VEVENT
DTSTART;TZID=Europe/Rome:20170518T161500
DTEND;TZID=Europe/Rome:20170518T161500
DTSTAMP:20260425T134509
CREATED:20170523T103203Z
LAST-MODIFIED:20170523T103203Z
UID:3777-1495124100-1495124100@www.medicinema-italia.org
SUMMARY:Questione di Karma
DESCRIPTION:GENERE:\nCommedia\n\n\nTRAMA:\nGiacomo è lo stravagante erede di una dinastia di industriali\, ma più che interessarsi all’azienda\, preferisce occuparsi delle sue mille passioni. La sua vita è stata segnata dalla scomparsa del padre quando era molto piccolo. L’incontro con un eccentrico esoterista francese gli cambia la vita: lo studioso infatti afferma di aver individuato l’attuale reincarnazione del padre di Giacomo. Trattasi di tal Mario Pitagora\, un uomo tutt’altro che spirituale\, interessato solo ai soldi e indebitato con mezza città. Questo incontro apparentemente assurdo cambierà la vita di entrambi.\n\n\nUSCITA CINEMA:\n09/03/2017\n\n\n\n	\n										\n							\n								\n									\n									Share on Facebook\n									Share\n								\n															\n						\n										\n						\n							\n								\n								Share on TwitterTweet\n							\n													\n					\n										\n						\n							\n								Share on LinkedIn\n								Share\n							\n						\n					\n										\n						\n							\n								\n								Send email\n								Mail
URL:https://www.medicinema-italia.org/evento/questione-di-karma/
LOCATION:Ospedale Maggiore Niguarda – Spazio Vita\, Piazza dell'ospedale maggiore 3\, Milano\, 20162
CATEGORIES:Niguarda,Proiezioni,Spazio Vita
ATTACH;FMTTYPE=image/jpeg:https://www.medicinema-italia.org/wp-content/uploads/2017/05/questione-di-karma.jpg
END:VEVENT
BEGIN:VEVENT
DTSTART;TZID=Europe/Rome:20170525T161500
DTEND;TZID=Europe/Rome:20170525T161500
DTSTAMP:20260425T134509
CREATED:20170306T164236Z
LAST-MODIFIED:20170306T164236Z
UID:3469-1495728900-1495728900@www.medicinema-italia.org
SUMMARY:Pirati dei Caraibi: la vendetta di Salazar
DESCRIPTION:GENERE:\nAzione\n\n\nTRAMA:\nCatapultato in una nuova e travolgente avventura\, lo sventurato Capitan Jack Sparrow vede peggiorare la propria sfortuna quando dei letali marinai fantasma fuggono dal Triangolo del Diavolo guidati dal terrificante Capitano Salazar e decisi a uccidere ogni pirata del mare\, soprattutto Jack. La sua unica speranza di sopravvivenza risiede nel leggendario Tridente di Poseidone\, ma per riuscire a trovarlo Jack dovrà formare una precaria alleanza con la brillante e affascinante astronoma Carina Smyth e con Henry\, un giovane e risoluto marinaio della Royal Navy. Capitan Jack si metterà al timone della sua nave\, un piccolo e malandato vascello\, per sconfiggere la sorte avversa e scampare al nemico più forte e crudele che abbia mai affrontato.\n\n\nUSCITA CINEMA:\n24/05/2017\n\n\n\n	\n										\n							\n								\n									\n									Share on Facebook\n									Share\n								\n															\n						\n										\n						\n							\n								\n								Share on TwitterTweet\n							\n													\n					\n										\n						\n							\n								Share on LinkedIn\n								Share\n							\n						\n					\n										\n						\n							\n								\n								Send email\n								Mail
URL:https://www.medicinema-italia.org/evento/pirati-dei-caraibi-la-vendetta-salazar/
LOCATION:Ospedale Maggiore Niguarda – Spazio Vita\, Piazza dell'ospedale maggiore 3\, Milano\, 20162
CATEGORIES:Niguarda,Proiezioni,Spazio Vita
ATTACH;FMTTYPE=image/jpeg:https://www.medicinema-italia.org/wp-content/uploads/2017/03/pirati-dei-caraibi-vendetta-salazar.jpg
END:VEVENT
BEGIN:VEVENT
DTSTART;TZID=Europe/Rome:20170525T161500
DTEND;TZID=Europe/Rome:20170525T161500
DTSTAMP:20260425T134509
CREATED:20170522T085542Z
LAST-MODIFIED:20170522T085542Z
UID:3756-1495728900-1495728900@www.medicinema-italia.org
SUMMARY:Insospettabili sospetti
DESCRIPTION:GENERE:\nCommedia\n\n\nTRAMA:\nNel film Insospettabili sospetti gli attori premio Oscar Morgan Freeman\, Michael Caine e Alan Arkin interpretano Willie\, Joe e Al\, tre amici di vecchia data. Stufi di star seduti tutto il giorno su una panchina al parco a osservare i piccioni che beccano le briciole\, i tre pensionati cercano un modo per dare una svolta alla propria vita. Come se non bastasse la monotonia delle giornate\, di colpo vedono i loro fondi pensione andare in fumo a causa della banca che li ha utilizzati per coprire un’assicurazione aziendale. Pressati dal bisogno di pagare le bollette e sbarcare il lunario\, per la prima volta in vita loro\, si trovano costretti a deviare dalla retta via e così\, i tre se la rischiano tutta per vendicarsi\, decidendo di rapinare proprio la banca che li ha defraudati dei loro soldi.\n\n\nUSCITA CINEMA:\n04/05/2017\n\n\n\n	\n										\n							\n								\n									\n									Share on Facebook\n									Share\n								\n															\n						\n										\n						\n							\n								\n								Share on TwitterTweet\n							\n													\n					\n										\n						\n							\n								Share on LinkedIn\n								Share\n							\n						\n					\n										\n						\n							\n								\n								Send email\n								Mail
URL:https://www.medicinema-italia.org/evento/insospettabili-sospetti/
LOCATION:Ospedale Maggiore Niguarda – Spazio Vita\, Piazza dell'ospedale maggiore 3\, Milano\, 20162
CATEGORIES:Niguarda,Proiezioni,Spazio Vita
ATTACH;FMTTYPE=image/jpeg:https://www.medicinema-italia.org/wp-content/uploads/2017/05/insospettabili-sospetti.jpg
END:VEVENT
END:VCALENDAR