BEGIN:VCALENDAR
VERSION:2.0
PRODID:-//Medicinema Italia - ECPv6.15.20//NONSGML v1.0//EN
CALSCALE:GREGORIAN
METHOD:PUBLISH
X-ORIGINAL-URL:https://www.medicinema-italia.org
X-WR-CALDESC:Eventi per Medicinema Italia
REFRESH-INTERVAL;VALUE=DURATION:PT1H
X-Robots-Tag:noindex
X-PUBLISHED-TTL:PT1H
BEGIN:VTIMEZONE
TZID:Europe/Rome
BEGIN:DAYLIGHT
TZOFFSETFROM:+0100
TZOFFSETTO:+0200
TZNAME:CEST
DTSTART:20160327T010000
END:DAYLIGHT
BEGIN:STANDARD
TZOFFSETFROM:+0200
TZOFFSETTO:+0100
TZNAME:CET
DTSTART:20161030T010000
END:STANDARD
BEGIN:DAYLIGHT
TZOFFSETFROM:+0100
TZOFFSETTO:+0200
TZNAME:CEST
DTSTART:20170326T010000
END:DAYLIGHT
BEGIN:STANDARD
TZOFFSETFROM:+0200
TZOFFSETTO:+0100
TZNAME:CET
DTSTART:20171029T010000
END:STANDARD
BEGIN:DAYLIGHT
TZOFFSETFROM:+0100
TZOFFSETTO:+0200
TZNAME:CEST
DTSTART:20180325T010000
END:DAYLIGHT
BEGIN:STANDARD
TZOFFSETFROM:+0200
TZOFFSETTO:+0100
TZNAME:CET
DTSTART:20181028T010000
END:STANDARD
END:VTIMEZONE
BEGIN:VEVENT
DTSTART;TZID=Europe/Rome:20170601T161500
DTEND;TZID=Europe/Rome:20170601T161500
DTSTAMP:20260425T121835
CREATED:20170522T085953Z
LAST-MODIFIED:20170522T085953Z
UID:3759-1496333700-1496333700@www.medicinema-italia.org
SUMMARY:Pirati dei Caraibi – La vendetta di Salazar
DESCRIPTION:GENERE:\nAzione\n\n\nTRAMA:\nI pericoli del mare non finiscono mai per lo sventurato Jack Sparrow (Johnny Depp) che diventa nuovamente bersaglio di un’indicibile orda nemica a caccia di pirati. La flotta di marinai fantasma capitanata dal temibile Armando Salazar (Javier Bardem) è intenzionata a ripulire i mari dall’infestazione pirata\, distruggendo tutti i vascelli sulla rotta che esibiscono la bandiera nera con teschio e ossa\, e condannando i banditi che si trovano a bordo a una fine tremenda. Fuggito dal Triangolo del Diavolo a bordo della Silent Mary\, un tempo maestosa\, ora oscura e decadente\, Salazar sembra avere un conto in sospeso proprio con lo svampito Sparrow\, la unica speranza di sopravvivenza risiede nel leggendario Tridente di Poseidone ma per riuscire a trovarlo sarà costretto ad allearsi con la brillante e affascinante astronoma Carina Smyth (Kaya Scodelario) e il risoluto Henry Turner (Brenton Thwaites)\, giovane marinaio della Royal Navy. Al timone di una nave piccola e malandata\, Jack si prepara ad affrontare l’oceano\, rassegnato alla sorte avversa e allo scontro con i nemici passati che proprio non ne vogliono sapere di morire definitivamente. Ritroviamo anche Hector Barbossa (Geoffrey Rush)\, come sempre indeciso se spalleggiare il suo vecchio capitano o venderlo al miglior offerente.\n\n\nUSCITA CINEMA:\n24/05/2017\n\n\n\n	\n										\n							\n								\n									\n									Share on Facebook\n									Share\n								\n															\n						\n										\n						\n							\n								\n								Share on TwitterTweet\n							\n													\n					\n										\n						\n							\n								Share on LinkedIn\n								Share\n							\n						\n					\n										\n						\n							\n								\n								Send email\n								Mail
URL:https://www.medicinema-italia.org/evento/pirati-dei-caraibi-la-vendetta-salazar-3/
LOCATION:Ospedale Maggiore Niguarda – Spazio Vita\, Piazza dell'ospedale maggiore 3\, Milano\, 20162
CATEGORIES:Niguarda,Proiezioni,Spazio Vita
ATTACH;FMTTYPE=image/jpeg:https://www.medicinema-italia.org/wp-content/uploads/2017/03/pirati-dei-caraibi-vendetta-salazar.jpg
END:VEVENT
BEGIN:VEVENT
DTSTART;TZID=Europe/Rome:20170608T161500
DTEND;TZID=Europe/Rome:20170608T161500
DTSTAMP:20260425T121835
CREATED:20170522T090356Z
LAST-MODIFIED:20170522T090935Z
UID:3761-1496938500-1496938500@www.medicinema-italia.org
SUMMARY:Un tirchio quasi perfetto
DESCRIPTION:GENERE:\nCommedia\n\n\nTRAMA:\nFrançois Gautier è tirchio! Risparmiare gli dà gioia\, la prospettiva di dover pagare lo fa sudare freddo. La sua vita è scandita in funzione di un unico obiettivo: non mettere mai mano al portafoglio. Una vita che tuttavia viene completamente sconvolta in un solo giorno: si innamora di una donna e scopre di avere una figlia di cui ignorava l’esistenza. Costretto a mentire per riuscire ad occultare il suo terribile difetto\, per François cominciano i problemi. Poiché a volte mentire può costare caro\, molto caro…\n\n\nUSCITA CINEMA:\n16/03/2017\n\n\n\n	\n										\n							\n								\n									\n									Share on Facebook\n									Share\n								\n															\n						\n										\n						\n							\n								\n								Share on TwitterTweet\n							\n													\n					\n										\n						\n							\n								Share on LinkedIn\n								Share\n							\n						\n					\n										\n						\n							\n								\n								Send email\n								Mail
URL:https://www.medicinema-italia.org/evento/un-tirchio-quasi-perfetto/
LOCATION:Ospedale Maggiore Niguarda – Spazio Vita\, Piazza dell'ospedale maggiore 3\, Milano\, 20162
CATEGORIES:Niguarda,Proiezioni,Spazio Vita
ATTACH;FMTTYPE=image/jpeg:https://www.medicinema-italia.org/wp-content/uploads/2017/05/un-tirchio-quasi-perfetto.jpg
END:VEVENT
BEGIN:VEVENT
DTSTART;TZID=Europe/Rome:20170615T161500
DTEND;TZID=Europe/Rome:20170615T161500
DTSTAMP:20260425T121835
CREATED:20170522T090902Z
LAST-MODIFIED:20170522T090902Z
UID:3764-1497543300-1497543300@www.medicinema-italia.org
SUMMARY:Slam - Tutto per una ragazza
DESCRIPTION:GENERE:\nDrammatico\n\n\nTRAMA:\nSam (Ludovico Tersigni) è un ragazzo di sedici anni con la passione per lo skateboard e per Tony Hawk\, uno dei più grandi skaters al mondo: a lui\, o meglio\, al suo poster\, Sam confida le sue paure\, i suoi problemi e cerca di trovare risposte nelle frasi dell’autobiografia dello skater. Tony Hawk diventa la voce narrante della pellicola; è lui ad accompagnare le (dis)avventure di Samuele che nonostante le molte cadute\, come molti skaters\, non si perde d’animo per riuscire a compiere il suo “trick”. Sam vorrebbe essere il primo della famiglia a non inciampare nello stesso errore di sua mamma (Jasmine Trinca)\, suo nonno e suo bisnonno: diventare genitori a soli sedici anni. Proprio a questa età Sam conosce e frequenta Alice (Barbara Ramella)\, una ragazza bellissima con cui instaura un rapporto che lo allontana momentaneamente dallo skate\, dagli amici e dalla famiglia. Nel momento in cui Sam decide di lasciarla\, Alice gli confessa di aspettare un bambino. Davanti all’errore che ha segnato tutta la sua famiglia\, Sam decide di scappare e di far perdere le sue tracce…\n\n\nUSCITA CINEMA:\n23/03/2017\n\n\n\n	\n										\n							\n								\n									\n									Share on Facebook\n									Share\n								\n															\n						\n										\n						\n							\n								\n								Share on TwitterTweet\n							\n													\n					\n										\n						\n							\n								Share on LinkedIn\n								Share\n							\n						\n					\n										\n						\n							\n								\n								Send email\n								Mail
URL:https://www.medicinema-italia.org/evento/slam-tutto-per-una-ragazza-2/
LOCATION:Ospedale Maggiore Niguarda – Spazio Vita\, Piazza dell'ospedale maggiore 3\, Milano\, 20162
CATEGORIES:Niguarda,Proiezioni,Spazio Vita
ATTACH;FMTTYPE=image/jpeg:https://www.medicinema-italia.org/wp-content/uploads/2017/05/slam-tutto-per-una-ragazza.jpg
END:VEVENT
BEGIN:VEVENT
DTSTART;TZID=Europe/Rome:20170622T161500
DTEND;TZID=Europe/Rome:20170622T161500
DTSTAMP:20260425T121835
CREATED:20170522T091143Z
LAST-MODIFIED:20170522T091358Z
UID:3767-1498148100-1498148100@www.medicinema-italia.org
SUMMARY:The Sturtup
DESCRIPTION:GENERE:\nCommedia\n\n\nTRAMA:\nQual è il sogno di ogni ragazzo (e non solo) di oggi? Inventare una app e svoltare! E’ quello che riesce a fare Matteo Achilli\, 19enne romano che\, esasperato dall’ennesima ingiustizia subita\, inventa un social network che fa incontrare domanda e offerta di lavoro in modo innovativo. All’inizio nessuno crede al progetto e molti sono i falchi pronti ad approfittare di lui. Ma Matteo tiene duro\, non demorde e ad un certo punto arriva la svolta. A soli 19 anni si ritrova così\, da un giorno all’altro\, al centro degli interessi del mondo che conta. Da Roma a Milano\, dalla borgata del Corviale al tetto dei grattacieli della city milanese: in breve tempo Matteo acquista popolarità e soldi. La sua faccia è sulle prime pagine dei giornali e la sua Start Up\, che conta decine di migliaia di iscritti\, fa gola ad aziende importanti. Ma il successo ha un prezzo: prendere o lasciare? Il costo sono gli affetti più cari: la famiglia\, l’amicizia\, l’amore. Cosa sceglierà Matteo? Ispirato ad una storia vera.\n\n\nUSCITA CINEMA:\n06/04/2017\n\n\n\n	\n										\n							\n								\n									\n									Share on Facebook\n									Share\n								\n															\n						\n										\n						\n							\n								\n								Share on TwitterTweet\n							\n													\n					\n										\n						\n							\n								Share on LinkedIn\n								Share\n							\n						\n					\n										\n						\n							\n								\n								Send email\n								Mail
URL:https://www.medicinema-italia.org/evento/the-sturtup/
LOCATION:Ospedale Maggiore Niguarda – Spazio Vita\, Piazza dell'ospedale maggiore 3\, Milano\, 20162
CATEGORIES:Niguarda,Proiezioni,Spazio Vita
ATTACH;FMTTYPE=image/jpeg:https://www.medicinema-italia.org/wp-content/uploads/2017/05/the-startup.jpg
END:VEVENT
BEGIN:VEVENT
DTSTART;TZID=Europe/Rome:20170629T161500
DTEND;TZID=Europe/Rome:20170629T161500
DTSTAMP:20260425T121835
CREATED:20170522T092556Z
LAST-MODIFIED:20170522T092556Z
UID:3770-1498752900-1498752900@www.medicinema-italia.org
SUMMARY:Tutto quello che vuoi
DESCRIPTION:GENERE:\nCommedia\n\n\nTRAMA:\nAlessandro (Andrea Carpenzano) è un ventiduenne trasteverino ignorante e turbolento; Giorgio (Giuliano Montaldo) un ottantacinquenne poeta dimenticato. I due vivono a pochi passi l’uno dall’altro\, ma non si sono mai incontrati\, finché Alessandro accetta malvolentieri un lavoro come accompagnatore di quell’elegante signore in passeggiate pomeridiane. Col passare dei giorni dalla mente un po’ smarrita dell’anziano poeta\, e dai suoi versi\, affiora progressivamente un ricordo del suo passato remoto: indizi di una vera e propria caccia al tesoro. Seguendoli\, Alessandro si avventurerà insieme a Giorgio in un viaggio alla scoperta di quella ricchezza nascosta\, e di quella celata nel suo stesso cuore.\n\n\nUSCITA CINEMA:\n11/05/2017\n\n\n\n	\n										\n							\n								\n									\n									Share on Facebook\n									Share\n								\n															\n						\n										\n						\n							\n								\n								Share on TwitterTweet\n							\n													\n					\n										\n						\n							\n								Share on LinkedIn\n								Share\n							\n						\n					\n										\n						\n							\n								\n								Send email\n								Mail
URL:https://www.medicinema-italia.org/evento/tutto-quello-che-vuoi/
LOCATION:Ospedale Maggiore Niguarda – Spazio Vita\, Piazza dell'ospedale maggiore 3\, Milano\, 20162
CATEGORIES:Niguarda,Proiezioni,Spazio Vita
ATTACH;FMTTYPE=image/jpeg:https://www.medicinema-italia.org/wp-content/uploads/2017/05/tutto-quello-che-vuoi.jpg
END:VEVENT
END:VCALENDAR