BEGIN:VCALENDAR
VERSION:2.0
PRODID:-//Medicinema Italia - ECPv6.15.20//NONSGML v1.0//EN
CALSCALE:GREGORIAN
METHOD:PUBLISH
X-ORIGINAL-URL:https://www.medicinema-italia.org
X-WR-CALDESC:Eventi per Medicinema Italia
REFRESH-INTERVAL;VALUE=DURATION:PT1H
X-Robots-Tag:noindex
X-PUBLISHED-TTL:PT1H
BEGIN:VTIMEZONE
TZID:Europe/Rome
BEGIN:DAYLIGHT
TZOFFSETFROM:+0100
TZOFFSETTO:+0200
TZNAME:CEST
DTSTART:20160327T010000
END:DAYLIGHT
BEGIN:STANDARD
TZOFFSETFROM:+0200
TZOFFSETTO:+0100
TZNAME:CET
DTSTART:20161030T010000
END:STANDARD
BEGIN:DAYLIGHT
TZOFFSETFROM:+0100
TZOFFSETTO:+0200
TZNAME:CEST
DTSTART:20170326T010000
END:DAYLIGHT
BEGIN:STANDARD
TZOFFSETFROM:+0200
TZOFFSETTO:+0100
TZNAME:CET
DTSTART:20171029T010000
END:STANDARD
BEGIN:DAYLIGHT
TZOFFSETFROM:+0100
TZOFFSETTO:+0200
TZNAME:CEST
DTSTART:20180325T010000
END:DAYLIGHT
BEGIN:STANDARD
TZOFFSETFROM:+0200
TZOFFSETTO:+0100
TZNAME:CET
DTSTART:20181028T010000
END:STANDARD
END:VTIMEZONE
BEGIN:VEVENT
DTSTART;TZID=Europe/Rome:20170831T161500
DTEND;TZID=Europe/Rome:20170831T161500
DTSTAMP:20260421T065342
CREATED:20170828T085035Z
LAST-MODIFIED:20170828T085035Z
UID:4156-1504196100-1504196100@www.medicinema-italia.org
SUMMARY:Cattivissimo me 3
DESCRIPTION:GENERE:\nAnimazione\n\n\nTRAMA:\nL’ex cattivissimo Gru ha abbandonato le passate malvagità per trascorrere una vita serena con le figlie acquisite Margo\, Edith e Agnes\, nonché con la moglie Lucy\, che a sua volta sta cercando di diventare una buona madre per le bambine. Sia Gru che Lucy lavorano ora per l’AVL\, agenzia che si incarica di catturare i supercattivi\, ma la nuova direttrice\, l’ambiziosa Valerie Da Vinci\, licenzia in tronco entrambi quando non riescono a fermare il progetto criminale di Balthazar Bratt\, ex star bambino protagonista di un telefilm in cui commetteva ogni sorta di nefandezze\, che ora confonde realtà e finzione continuando a comportarsi come se vivesse negli anni ’80 (l’epoca del suo massimo successo). Al centro di Cattivissimo Me 3 c’è però il rapporto fra Gru e il suo gemello Dru\, che il nostro (anti)eroe non sapeva nemmeno di avere\, e che è identico a lui eccetto che per la fluente capigliatura bionda e la totale inettitudine al crimine\, accompagnata però da un’irresistibile inclinazione ad entrare comunque in azione. Riuscirà Dru a far riscoprire al gemello redento il brivido dell’avventura (criminale)\, o sarà Gru a portare il fratello sulla retta via?\n\n\nUSCITA CINEMA:\n24/08/2017\n\n\n\n	\n										\n							\n								\n									\n									Share on Facebook\n									Share\n								\n															\n						\n										\n						\n							\n								\n								Share on TwitterTweet\n							\n													\n					\n										\n						\n							\n								Share on LinkedIn\n								Share\n							\n						\n					\n										\n						\n							\n								\n								Send email\n								Mail
URL:https://www.medicinema-italia.org/evento/cattivissimo-me-3/
LOCATION:Ospedale Maggiore Niguarda – Spazio Vita\, Piazza dell'ospedale maggiore 3\, Milano\, 20162
CATEGORIES:Niguarda,Proiezioni,Spazio Vita
ATTACH;FMTTYPE=image/jpeg:https://www.medicinema-italia.org/wp-content/uploads/2017/08/cattivissimo-me-3.jpg
END:VEVENT
END:VCALENDAR