BEGIN:VCALENDAR
VERSION:2.0
PRODID:-//Medicinema Italia - ECPv6.15.20//NONSGML v1.0//EN
CALSCALE:GREGORIAN
METHOD:PUBLISH
X-ORIGINAL-URL:https://www.medicinema-italia.org
X-WR-CALDESC:Eventi per Medicinema Italia
REFRESH-INTERVAL;VALUE=DURATION:PT1H
X-Robots-Tag:noindex
X-PUBLISHED-TTL:PT1H
BEGIN:VTIMEZONE
TZID:Europe/Rome
BEGIN:DAYLIGHT
TZOFFSETFROM:+0100
TZOFFSETTO:+0200
TZNAME:CEST
DTSTART:20160327T010000
END:DAYLIGHT
BEGIN:STANDARD
TZOFFSETFROM:+0200
TZOFFSETTO:+0100
TZNAME:CET
DTSTART:20161030T010000
END:STANDARD
BEGIN:DAYLIGHT
TZOFFSETFROM:+0100
TZOFFSETTO:+0200
TZNAME:CEST
DTSTART:20170326T010000
END:DAYLIGHT
BEGIN:STANDARD
TZOFFSETFROM:+0200
TZOFFSETTO:+0100
TZNAME:CET
DTSTART:20171029T010000
END:STANDARD
BEGIN:DAYLIGHT
TZOFFSETFROM:+0100
TZOFFSETTO:+0200
TZNAME:CEST
DTSTART:20180325T010000
END:DAYLIGHT
BEGIN:STANDARD
TZOFFSETFROM:+0200
TZOFFSETTO:+0100
TZNAME:CET
DTSTART:20181028T010000
END:STANDARD
END:VTIMEZONE
BEGIN:VEVENT
DTSTART;TZID=Europe/Rome:20170907T161500
DTEND;TZID=Europe/Rome:20170907T161500
DTSTAMP:20260421T052813
CREATED:20170904T085208Z
LAST-MODIFIED:20170904T085208Z
UID:4237-1504800900-1504800900@www.medicinema-italia.org
SUMMARY:Aspettando il Re
DESCRIPTION:GENERE:\nDrammatico\n\n\nTRAMA:\nAlan Clay è un uomo d’affari americano la cui vita è andata a rotoli: ha perso la casa\, il matrimonio\, la stima del padre\, non sa come pagare gli studi della figlia ed è afflitto dai sensi di colpa per aver chiuso uno stabilimento americano in favore di una delocalizzazione in Cina – che alla lunga non ha nemmeno ripagato. Ora cerca di rifarsi vendendo un sistema di teleconferenza via ologramma al Re dell’Arabia Saudita\, nella città di KMET\, che è ancora in realtà solo un progetto e di fatto consiste in una palazzina di uffici in mezzo al deserto. Ha inoltre una preoccupante ciste sulla schiena\, che potrebbe anche essere un linfoma\, e per curarsi finisce per conoscere una locale dottoressa che\, insieme al suo autista\, lo aiuta a ritrovare un po’ di fiducia in se stesso e gioia di vivere.\n\n\nUSCITA CINEMA:\n15/06/2017\n\n\n\n	\n										\n							\n								\n									\n									Share on Facebook\n									Share\n								\n															\n						\n										\n						\n							\n								\n								Share on TwitterTweet\n							\n													\n					\n										\n						\n							\n								Share on LinkedIn\n								Share\n							\n						\n					\n										\n						\n							\n								\n								Send email\n								Mail
URL:https://www.medicinema-italia.org/evento/aspettando-il-re/
LOCATION:Ospedale Maggiore Niguarda – Spazio Vita\, Piazza dell'ospedale maggiore 3\, Milano\, 20162
CATEGORIES:Niguarda,Proiezioni,Spazio Vita
ATTACH;FMTTYPE=image/jpeg:https://www.medicinema-italia.org/wp-content/uploads/2017/09/aspettando-il-re.jpg
END:VEVENT
BEGIN:VEVENT
DTSTART;TZID=Europe/Rome:20170914T161500
DTEND;TZID=Europe/Rome:20170914T161500
DTSTAMP:20260421T052813
CREATED:20170904T085823Z
LAST-MODIFIED:20170904T085823Z
UID:4244-1505405700-1505405700@www.medicinema-italia.org
SUMMARY:Cars 3
DESCRIPTION:GENERE:\nAnimazione\n\n\nTRAMA:\nColto alla sprovvista da una nuova generazione di bolidi da corsa\, il leggendario Saetta McQueen è costretto a ritirarsi dallo sport che ama. Per tornare in pista avrà bisogno dell’aiuto di Cruz Ramirez\, una giovane esperta di auto da corsa con tanta voglia di vincere e dovrà riscoprire gli insegnamenti del suo compianto mentore Hudson Hornet: il suo percorso sarà pieno di svolte inaspettate. Per dimostrare che il numero 95 possiede ancora la stoffa di un campione\, Saetta dovrà gareggiare nella più grande corsa della Piston Cup.\n\n\nUSCITA CINEMA:\n14/09/2017\n\n\n\n	\n										\n							\n								\n									\n									Share on Facebook\n									Share\n								\n															\n						\n										\n						\n							\n								\n								Share on TwitterTweet\n							\n													\n					\n										\n						\n							\n								Share on LinkedIn\n								Share\n							\n						\n					\n										\n						\n							\n								\n								Send email\n								Mail
URL:https://www.medicinema-italia.org/evento/cars-3-3/
LOCATION:Ospedale Maggiore Niguarda – Spazio Vita\, Piazza dell'ospedale maggiore 3\, Milano\, 20162
CATEGORIES:Niguarda,Proiezioni,Spazio Vita
ATTACH;FMTTYPE=image/jpeg:https://www.medicinema-italia.org/wp-content/uploads/2017/03/cars-3.jpg
END:VEVENT
BEGIN:VEVENT
DTSTART;TZID=Europe/Rome:20170921T161500
DTEND;TZID=Europe/Rome:20170921T161500
DTSTAMP:20260421T052813
CREATED:20170904T090213Z
LAST-MODIFIED:20170904T090213Z
UID:4246-1506010500-1506010500@www.medicinema-italia.org
SUMMARY:Dunkirk
DESCRIPTION:GENERE:\nDrammatico\n\n\nTRAMA:\nMaggio\, 1940. Sulla spiaggia di Dunkirk 400.000 soldati inglesi si ritrovano accerchiati dall’esercito tedesco. Colpiti da terra\, da cielo e da mare\, i britannici organizzano una rocambolesca operazione di ripiegamento. Il piano di evacuazione coinvolge anche le imbarcazioni civili\, requisite per rimpatriare il contingente e continuare la guerra contro il Terzo Reich. L’impegno profuso dalle navi militari e dalle little ship assicura una “vittoria dentro la disfatta”. Vittoria capitale per l’avvenire e la promessa della futura liberazione del continente.\n\n\nUSCITA CINEMA:\n31/09/2017\n\n\n\n	\n										\n							\n								\n									\n									Share on Facebook\n									Share\n								\n															\n						\n										\n						\n							\n								\n								Share on TwitterTweet\n							\n													\n					\n										\n						\n							\n								Share on LinkedIn\n								Share\n							\n						\n					\n										\n						\n							\n								\n								Send email\n								Mail
URL:https://www.medicinema-italia.org/evento/dunkirk/
LOCATION:Ospedale Maggiore Niguarda – Spazio Vita\, Piazza dell'ospedale maggiore 3\, Milano\, 20162
CATEGORIES:Niguarda,Proiezioni,Spazio Vita
ATTACH;FMTTYPE=image/jpeg:https://www.medicinema-italia.org/wp-content/uploads/2017/09/Dunkirk.jpg
END:VEVENT
BEGIN:VEVENT
DTSTART;TZID=Europe/Rome:20170928T161500
DTEND;TZID=Europe/Rome:20170928T161500
DTSTAMP:20260421T052813
CREATED:20170904T090545Z
LAST-MODIFIED:20170904T090545Z
UID:4249-1506615300-1506615300@www.medicinema-italia.org
SUMMARY:Easy - Un viaggio facile facile
DESCRIPTION:GENERE:\nCommedia\n\n\nTRAMA:\nIsidoro\, per i familiari Easy\, ha 35 anni ed è stato una promessa dell’automobilismo competitivo fino a quando non ha cominciato a prendere peso. Ora vive con la madre e si imbottisce di antidepressivi. Fino al giorno in cui il fratello gli chiede un favore speciale: un operaio ucraino è morto sul lavoro e la salma va riportata in Ucraina senza troppe formalità. Easy può così tornare a guidare…un carro funebre.\n\n\nUSCITA CINEMA:\n31/09/2017\n\n\n\n	\n										\n							\n								\n									\n									Share on Facebook\n									Share\n								\n															\n						\n										\n						\n							\n								\n								Share on TwitterTweet\n							\n													\n					\n										\n						\n							\n								Share on LinkedIn\n								Share\n							\n						\n					\n										\n						\n							\n								\n								Send email\n								Mail
URL:https://www.medicinema-italia.org/evento/easy-un-viaggio-facile-facile/
LOCATION:Ospedale Maggiore Niguarda – Spazio Vita\, Piazza dell'ospedale maggiore 3\, Milano\, 20162
CATEGORIES:Niguarda,Proiezioni,Spazio Vita
ATTACH;FMTTYPE=image/jpeg:https://www.medicinema-italia.org/wp-content/uploads/2017/09/Easy-Un-viaggio-facile-facile.jpg
END:VEVENT
END:VCALENDAR