BEGIN:VCALENDAR
VERSION:2.0
PRODID:-//Medicinema Italia - ECPv6.15.20//NONSGML v1.0//EN
CALSCALE:GREGORIAN
METHOD:PUBLISH
X-ORIGINAL-URL:https://www.medicinema-italia.org
X-WR-CALDESC:Eventi per Medicinema Italia
REFRESH-INTERVAL;VALUE=DURATION:PT1H
X-Robots-Tag:noindex
X-PUBLISHED-TTL:PT1H
BEGIN:VTIMEZONE
TZID:Europe/Rome
BEGIN:DAYLIGHT
TZOFFSETFROM:+0100
TZOFFSETTO:+0200
TZNAME:CEST
DTSTART:20160327T010000
END:DAYLIGHT
BEGIN:STANDARD
TZOFFSETFROM:+0200
TZOFFSETTO:+0100
TZNAME:CET
DTSTART:20161030T010000
END:STANDARD
BEGIN:DAYLIGHT
TZOFFSETFROM:+0100
TZOFFSETTO:+0200
TZNAME:CEST
DTSTART:20170326T010000
END:DAYLIGHT
BEGIN:STANDARD
TZOFFSETFROM:+0200
TZOFFSETTO:+0100
TZNAME:CET
DTSTART:20171029T010000
END:STANDARD
BEGIN:DAYLIGHT
TZOFFSETFROM:+0100
TZOFFSETTO:+0200
TZNAME:CEST
DTSTART:20180325T010000
END:DAYLIGHT
BEGIN:STANDARD
TZOFFSETFROM:+0200
TZOFFSETTO:+0100
TZNAME:CET
DTSTART:20181028T010000
END:STANDARD
END:VTIMEZONE
BEGIN:VEVENT
DTSTART;TZID=Europe/Rome:20171005T161500
DTEND;TZID=Europe/Rome:20171005T161500
DTSTAMP:20260421T040112
CREATED:20171010T085726Z
LAST-MODIFIED:20171010T085726Z
UID:4649-1507220100-1507220100@www.medicinema-italia.org
SUMMARY:Barry Seal – Una storia americana
DESCRIPTION:GENERE:\nAzione\n\n\nTRAMA:\n1979. Jimmy Carter sciocca la nazione con il suo discorso sulla “crisi di fiducia”\, mentre il popolo si prepara a votare Reagan. Barry Seal\, pilota di aerei di linea che arrotonda con il contrabbando\, viene contattato dalla CIA per spiare le attività dei guerriglieri sandinisti in Nicaragua. Sarà l’inizio di una serie di opportunità\, sempre meno lecite e sempre più rischiose.\n\n\nUSCITA CINEMA:\n14/09/2017\n\n\n\n	\n										\n							\n								\n									\n									Share on Facebook\n									Share\n								\n															\n						\n										\n						\n							\n								\n								Share on TwitterTweet\n							\n													\n					\n										\n						\n							\n								Share on LinkedIn\n								Share\n							\n						\n					\n										\n						\n							\n								\n								Send email\n								Mail
URL:https://www.medicinema-italia.org/evento/barry-seal-una-storia-americana/
LOCATION:Ospedale Maggiore Niguarda – Spazio Vita\, Piazza dell'ospedale maggiore 3\, Milano\, 20162
CATEGORIES:Niguarda,Proiezioni,Spazio Vita
ATTACH;FMTTYPE=image/jpeg:https://www.medicinema-italia.org/wp-content/uploads/2017/10/Barry-seal.jpg
END:VEVENT
BEGIN:VEVENT
DTSTART;TZID=Europe/Rome:20171012T161500
DTEND;TZID=Europe/Rome:20171012T161500
DTSTAMP:20260421T040112
CREATED:20171009T141152Z
LAST-MODIFIED:20171009T141152Z
UID:4631-1507824900-1507824900@www.medicinema-italia.org
SUMMARY:Il colore nascosto delle cose
DESCRIPTION:GENERE:\nDrammatico\n\n\nTRAMA:\nTeo è un creativo che lavora presso un’importante agenzia di pubblicità. Ha una relazione con Greta ma non disdegna attenzioni anche nei confronti di un’altra donna. Il suo incontro con Emma\, che ha perso la vista in giovane età\, ha un matrimonio alle spalle e lavora come osteopata\, cambia il suo modo di rapportarsi con l’altro sesso. Allo slancio iniziale debbono però far seguito scelte che non sempre è facile adottare.\n\n\nUSCITA CINEMA:\n07/09/2017\n\n\n\n	\n										\n							\n								\n									\n									Share on Facebook\n									Share\n								\n															\n						\n										\n						\n							\n								\n								Share on TwitterTweet\n							\n													\n					\n										\n						\n							\n								Share on LinkedIn\n								Share\n							\n						\n					\n										\n						\n							\n								\n								Send email\n								Mail
URL:https://www.medicinema-italia.org/evento/il-colore-nascosto-delle-cose/
LOCATION:Ospedale Maggiore Niguarda – Spazio Vita\, Piazza dell'ospedale maggiore 3\, Milano\, 20162
CATEGORIES:Niguarda,Proiezioni,Spazio Vita
ATTACH;FMTTYPE=image/jpeg:https://www.medicinema-italia.org/wp-content/uploads/2017/10/Il-colore-nascosto-delle-cose.jpg
END:VEVENT
BEGIN:VEVENT
DTSTART;TZID=Europe/Rome:20171019T161500
DTEND;TZID=Europe/Rome:20171019T161500
DTSTAMP:20260421T040112
CREATED:20171010T090148Z
LAST-MODIFIED:20171017T085449Z
UID:4652-1508429700-1508429700@www.medicinema-italia.org
SUMMARY:Appuntamento al parco
DESCRIPTION:GENERE:\nDrammatico\n\n\nTRAMA:\nEmily è una vedova americana che vive in una bella casa nel sobborgo londinese di Hampstead sommersa dai debiti che le ha lasciato in eredità il marito e ai quali non sa come fare fronte\, visto che non ha mai lavorato un giorno in vita sua\, se non come dama della carità. Di fronte al suo appartamento c’è il parco di proprietà di un ospedale fatiscente che un’altra inquilina\, sposata ad un avido imprenditore immobiliare\, vuol fare abbattere per costruire sui terreni una serie di appartamenti di lusso. Peccato che in quel parco viva da anni un uomo misterioso\, l’irlandese Donald\, che si è costruito una baracca e provvede autonomamente alle proprie necessità di vita\, dal cibo all’energia elettrica. Un giorno Emily vede Donald dalla finestra\, e da quel momento la sua vita non sarà più la stessa.\n\n\nUSCITA CINEMA:\n14/09/2017\n\n\n\n	\n										\n							\n								\n									\n									Share on Facebook\n									Share\n								\n															\n						\n										\n						\n							\n								\n								Share on TwitterTweet\n							\n													\n					\n										\n						\n							\n								Share on LinkedIn\n								Share\n							\n						\n					\n										\n						\n							\n								\n								Send email\n								Mail
URL:https://www.medicinema-italia.org/evento/appuntamento-al-parco/
LOCATION:Ospedale Maggiore Niguarda – Spazio Vita\, Piazza dell'ospedale maggiore 3\, Milano\, 20162
CATEGORIES:Niguarda,Proiezioni,Spazio Vita
ATTACH;FMTTYPE=image/jpeg:https://www.medicinema-italia.org/wp-content/uploads/2017/10/appuntamento-al-parco.jpg
END:VEVENT
BEGIN:VEVENT
DTSTART;TZID=Europe/Rome:20171026T161500
DTEND;TZID=Europe/Rome:20171026T161500
DTSTAMP:20260421T040112
CREATED:20171010T090735Z
LAST-MODIFIED:20171010T091445Z
UID:4655-1509034500-1509034500@www.medicinema-italia.org
SUMMARY:Chi m'ha visto
DESCRIPTION:GENERE:\nCommedia\n\n\nTRAMA:\nTra la parodia e la storia vera\, Chi m’ha visto racconta la strampalata vicenda di Martino Piccione (Giuseppe Fiorello)\, talentuoso musicista pugliese che imbraccia la chitarra per cantanti italiani di fama internazionale ed esegue trascinanti assoli all’ombra dei riflettori. Ossessionato dall’idea di guadagnare il centro del palcoscenico e conquistare la fama che merita\, Martino mal sopporta le ironie e le grette provocazioni della gente del paese\, nel quale torna alla fine di ogni tour o concerto. D’altra parte lui stesso riconosce che il mondo dello spettacolo è fatto così: non conta quanto vali\, conta quanto appari. Grazie all’aiuto dell’incosciente Peppino (Pierfrancesco Favino)\, un “cowboy di paese” senza troppi fronzoli per la testa\, un piano bislacco per attirare l’attenzione dei media prende forma: sfruttando la conformazione del territorio e la scoperta del nascondiglio perfetto\, Martino organizza la propria sparizione. Il gesto estremo porterà a conseguenze davvero inaspettate. Ambientata nella Puglia dei nostri giorni ed ispirata ad una storia vera\, la pellicola riflette all’interno di un contesto allegro e spensierato l’amara realtà in cui viviamo: spesso in nome di una esagerata ed effimera apparenza\, dimentichiamo la sostanza delle cose.\n\n\nUSCITA CINEMA:\n28/09/2017\n\n\n\n	\n										\n							\n								\n									\n									Share on Facebook\n									Share\n								\n															\n						\n										\n						\n							\n								\n								Share on TwitterTweet\n							\n													\n					\n										\n						\n							\n								Share on LinkedIn\n								Share\n							\n						\n					\n										\n						\n							\n								\n								Send email\n								Mail
URL:https://www.medicinema-italia.org/evento/chi-mha-visto-2/
LOCATION:Ospedale Maggiore Niguarda – Spazio Vita\, Piazza dell'ospedale maggiore 3\, Milano\, 20162
CATEGORIES:Niguarda,Proiezioni,Spazio Vita
ATTACH;FMTTYPE=image/jpeg:https://www.medicinema-italia.org/wp-content/uploads/2017/10/chi-mha-visto.jpg
END:VEVENT
END:VCALENDAR