BEGIN:VCALENDAR
VERSION:2.0
PRODID:-//Medicinema Italia - ECPv6.15.20//NONSGML v1.0//EN
CALSCALE:GREGORIAN
METHOD:PUBLISH
X-ORIGINAL-URL:https://www.medicinema-italia.org
X-WR-CALDESC:Eventi per Medicinema Italia
REFRESH-INTERVAL;VALUE=DURATION:PT1H
X-Robots-Tag:noindex
X-PUBLISHED-TTL:PT1H
BEGIN:VTIMEZONE
TZID:Europe/Rome
BEGIN:DAYLIGHT
TZOFFSETFROM:+0100
TZOFFSETTO:+0200
TZNAME:CEST
DTSTART:20170326T010000
END:DAYLIGHT
BEGIN:STANDARD
TZOFFSETFROM:+0200
TZOFFSETTO:+0100
TZNAME:CET
DTSTART:20171029T010000
END:STANDARD
BEGIN:DAYLIGHT
TZOFFSETFROM:+0100
TZOFFSETTO:+0200
TZNAME:CEST
DTSTART:20180325T010000
END:DAYLIGHT
BEGIN:STANDARD
TZOFFSETFROM:+0200
TZOFFSETTO:+0100
TZNAME:CET
DTSTART:20181028T010000
END:STANDARD
BEGIN:DAYLIGHT
TZOFFSETFROM:+0100
TZOFFSETTO:+0200
TZNAME:CEST
DTSTART:20190331T010000
END:DAYLIGHT
BEGIN:STANDARD
TZOFFSETFROM:+0200
TZOFFSETTO:+0100
TZNAME:CET
DTSTART:20191027T010000
END:STANDARD
END:VTIMEZONE
BEGIN:VEVENT
DTSTART;TZID=Europe/Rome:20180111T153000
DTEND;TZID=Europe/Rome:20180111T153000
DTSTAMP:20260420T231707
CREATED:20180103T094444Z
LAST-MODIFIED:20180110T104629Z
UID:5004-1515684600-1515684600@www.medicinema-italia.org
SUMMARY:Star Wars: Episodio VIII - Gli ultimi Jedi
DESCRIPTION:GENERE:\nAzione\n\n\nTRAMA:\nMentre il Primo Ordine si prepara a stroncare quel che resta della Resistenza\, Rey consegna a Luke Skywalker la spada laser che fu sua\, invitandolo a interrompere il suo esilio per salvare il mondo libero. Ma Luke non ne vuole sapere e il Lato Oscuro tesse la sua trama letale attorno agli ultimi ribelli. Ormai è soprattutto una questione di aspettative. Un equilibrio tra la voglia di voler bene a una saga che si è portata via una fetta della nostra vita e l’inevitabile gelosia di chi avverte che quella fetta gli è stata sottratta\, modificata o peggio ridicolizzata. Un equilibrio difficile da controllare\, almeno quanto quello tra la Luce e il Lato Oscuro della Forza.\n\n\nUSCITA CINEMA:\n13/12/2017\n\n\n\n	\n										\n							\n								\n									\n									Share on Facebook\n									Share\n								\n															\n						\n										\n						\n							\n								\n								Share on TwitterTweet\n							\n													\n					\n										\n						\n							\n								Share on LinkedIn\n								Share\n							\n						\n					\n										\n						\n							\n								\n								Send email\n								Mail
URL:https://www.medicinema-italia.org/evento/star-wars-episodio-viii-gli-ultimi-jedi/
LOCATION:Ospedale Maggiore Niguarda – Spazio Vita\, Piazza dell'ospedale maggiore 3\, Milano\, 20162
CATEGORIES:Niguarda,Proiezioni,Spazio Vita
ATTACH;FMTTYPE=image/jpeg:https://www.medicinema-italia.org/wp-content/uploads/2018/01/Star-Wars-The-Last-Jedi.jpg
END:VEVENT
BEGIN:VEVENT
DTSTART;TZID=Europe/Rome:20180118T160000
DTEND;TZID=Europe/Rome:20180118T160000
DTSTAMP:20260420T231707
CREATED:20180103T095001Z
LAST-MODIFIED:20180115T163826Z
UID:5008-1516291200-1516291200@www.medicinema-italia.org
SUMMARY:Due sotto il Burqa
DESCRIPTION:GENERE:\nCommedia\n\n\nTRAMA:\nLeila e Armand studiano a Scienze Politiche e si amano. I genitori di lui sono iraniani che hanno lasciato la patria dopo l’avvento di Khomeini. Lei invece si vede piombare in casa il fratello Mahmoud\, reduce dallo Yemen dove ha aderito al radicalismo islamico. Una delle sue prime imposizioni è quella di impedire alla sorella di incontrare Armand. Il quale però trova una soluzione. Indossa l’abito integrale che lascia scoperti solo gli occhi e si presenta a casa di Leila come una fanciulla di nome Sheherazade bisognosa di lezioni. La ‘studentessa’ attrae però l’attenzione amorosa di Mahmoud e questo complica non poco le cose.\n\n\nUSCITA CINEMA:\n06/12/2017\n\n\n\n	\n										\n							\n								\n									\n									Share on Facebook\n									Share\n								\n															\n						\n										\n						\n							\n								\n								Share on TwitterTweet\n							\n													\n					\n										\n						\n							\n								Share on LinkedIn\n								Share\n							\n						\n					\n										\n						\n							\n								\n								Send email\n								Mail
URL:https://www.medicinema-italia.org/evento/due-sotto-il-burqa/
LOCATION:Ospedale Maggiore Niguarda – Spazio Vita\, Piazza dell'ospedale maggiore 3\, Milano\, 20162
CATEGORIES:Niguarda,Proiezioni,Spazio Vita
ATTACH;FMTTYPE=image/jpeg:https://www.medicinema-italia.org/wp-content/uploads/2018/01/Due-sotto-il-Burqa.jpg
END:VEVENT
BEGIN:VEVENT
DTSTART;TZID=Europe/Rome:20180125T161500
DTEND;TZID=Europe/Rome:20180125T161500
DTSTAMP:20260420T231707
CREATED:20180103T095520Z
LAST-MODIFIED:20180103T095520Z
UID:5012-1516896900-1516896900@www.medicinema-italia.org
SUMMARY:Assassinio sull’Orient Express
DESCRIPTION:GENERE:\nDrammatico\n\n\nTRAMA:\nSullo sfondo degli anni Trenta\, dell’Art déco e del turismo esotico\, Hercule Poirot scova colpevoli e sonda con perizia le sottili meccaniche criminali. Atteso a Londra con urgenza\, trova sistemazione\, lusso e conforto sull’Orient Express. Ma una valanga e un omicidio interrompono presto i suoi piccoli piaceri\, la lettura di Dickens e la simmetria delle uova la mattina. Mister Bouc\, il direttore del treno preoccupato della polizia e dello scandalo\, chiede a Poirot di risolvere il caso. Bloccato con tredici passeggeri\, tutti sospettati\, il celebre detective improvvisa un’indagine che lo condurrà dove nemmeno lui aveva previsto.\n\n\nUSCITA CINEMA:\n30/11/2017\n\n\n\n	\n										\n							\n								\n									\n									Share on Facebook\n									Share\n								\n															\n						\n										\n						\n							\n								\n								Share on TwitterTweet\n							\n													\n					\n										\n						\n							\n								Share on LinkedIn\n								Share\n							\n						\n					\n										\n						\n							\n								\n								Send email\n								Mail
URL:https://www.medicinema-italia.org/evento/assassinio-orient-express/
LOCATION:Ospedale Maggiore Niguarda – Spazio Vita\, Piazza dell'ospedale maggiore 3\, Milano\, 20162
CATEGORIES:Niguarda,Proiezioni,Spazio Vita
ATTACH;FMTTYPE=image/jpeg:https://www.medicinema-italia.org/wp-content/uploads/2018/01/Assassinio-Orient-Express.jpg
END:VEVENT
END:VCALENDAR