BEGIN:VCALENDAR
VERSION:2.0
PRODID:-//Medicinema Italia - ECPv6.15.20//NONSGML v1.0//EN
CALSCALE:GREGORIAN
METHOD:PUBLISH
X-ORIGINAL-URL:https://www.medicinema-italia.org
X-WR-CALDESC:Eventi per Medicinema Italia
REFRESH-INTERVAL;VALUE=DURATION:PT1H
X-Robots-Tag:noindex
X-PUBLISHED-TTL:PT1H
BEGIN:VTIMEZONE
TZID:Europe/Rome
BEGIN:DAYLIGHT
TZOFFSETFROM:+0100
TZOFFSETTO:+0200
TZNAME:CEST
DTSTART:20170326T010000
END:DAYLIGHT
BEGIN:STANDARD
TZOFFSETFROM:+0200
TZOFFSETTO:+0100
TZNAME:CET
DTSTART:20171029T010000
END:STANDARD
BEGIN:DAYLIGHT
TZOFFSETFROM:+0100
TZOFFSETTO:+0200
TZNAME:CEST
DTSTART:20180325T010000
END:DAYLIGHT
BEGIN:STANDARD
TZOFFSETFROM:+0200
TZOFFSETTO:+0100
TZNAME:CET
DTSTART:20181028T010000
END:STANDARD
BEGIN:DAYLIGHT
TZOFFSETFROM:+0100
TZOFFSETTO:+0200
TZNAME:CEST
DTSTART:20190331T010000
END:DAYLIGHT
BEGIN:STANDARD
TZOFFSETFROM:+0200
TZOFFSETTO:+0100
TZNAME:CET
DTSTART:20191027T010000
END:STANDARD
END:VTIMEZONE
BEGIN:VEVENT
DTSTART;TZID=Europe/Rome:20180503T161500
DTEND;TZID=Europe/Rome:20180503T161500
DTSTAMP:20260420T172202
CREATED:20180421T194230Z
LAST-MODIFIED:20180421T194230Z
UID:5468-1525364100-1525364100@www.medicinema-italia.org
SUMMARY:Avengers: Infinity War
DESCRIPTION:  \n\n\n\nGENERE:\nAzione\, Fantastico\n\n\nTRAMA:\n\n\n\n\nI Vendicatori si confrontano in uno scontro epico col nemico di sempre\, il Titano Pazzo Thanos\, per evitare la fine dell’Universo. \n\n\n\n\n\n\nUSCITA CINEMA:\n25/04/2018\n\n\n\n	\n										\n							\n								\n									\n									Share on Facebook\n									Share\n								\n															\n						\n										\n						\n							\n								\n								Share on TwitterTweet\n							\n													\n					\n										\n						\n							\n								Share on LinkedIn\n								Share\n							\n						\n					\n										\n						\n							\n								\n								Send email\n								Mail
URL:https://www.medicinema-italia.org/evento/avengers-infinity-war-2/
LOCATION:Ospedale Maggiore Niguarda – Spazio Vita\, Piazza dell'ospedale maggiore 3\, Milano\, 20162
CATEGORIES:Niguarda,Proiezioni,Spazio Vita
ATTACH;FMTTYPE=image/jpeg:https://www.medicinema-italia.org/wp-content/uploads/2018/04/3367434-aiw_master-1-960x540.jpg
END:VEVENT
BEGIN:VEVENT
DTSTART;TZID=Europe/Rome:20180510T161500
DTEND;TZID=Europe/Rome:20180510T161500
DTSTAMP:20260420T172202
CREATED:20180421T195858Z
LAST-MODIFIED:20180421T195932Z
UID:5481-1525968900-1525968900@www.medicinema-italia.org
SUMMARY:Metti la nonna in freezer
DESCRIPTION:  \n\n\n\nGENERE:\nCommedia\n\n\nTRAMA:\n\n\n\n\n\nUn maldestro finanziere noto per essere incorruttibile\, una giovane restauratrice che riesce a sbarcare il lunario grazie alla pensione della nonna sono i protagonisti di una commedia su questi nostri tempi di grande crisi economica. \n\n\n\n\n\n\n\nUSCITA CINEMA:\n15/03/2018\n\n\n\n	\n										\n							\n								\n									\n									Share on Facebook\n									Share\n								\n															\n						\n										\n						\n							\n								\n								Share on TwitterTweet\n							\n													\n					\n										\n						\n							\n								Share on LinkedIn\n								Share\n							\n						\n					\n										\n						\n							\n								\n								Send email\n								Mail
URL:https://www.medicinema-italia.org/evento/metti-la-nonna-in-freezer/
LOCATION:Ospedale Maggiore Niguarda – Spazio Vita\, Piazza dell'ospedale maggiore 3\, Milano\, 20162
CATEGORIES:Niguarda,Proiezioni,Spazio Vita
ATTACH;FMTTYPE=image/jpeg:https://www.medicinema-italia.org/wp-content/uploads/2018/04/coverlg-3.jpg
END:VEVENT
BEGIN:VEVENT
DTSTART;TZID=Europe/Rome:20180517T161500
DTEND;TZID=Europe/Rome:20180517T161500
DTSTAMP:20260420T172202
CREATED:20180421T200643Z
LAST-MODIFIED:20180421T200658Z
UID:5491-1526573700-1526573700@www.medicinema-italia.org
SUMMARY:Contromano
DESCRIPTION:  \n\n\n\nGENERE:\nCommedia\n\n\nTRAMA:\n\n\n\n\n\n\nMario è un calzolaio milanese di 50 anni. La sua vita monotona e ben poco incline al cambiamento muta all’improvviso quando il bar di cui è cliente abituale viene rilevato da un egiziano e Oba\, un venditore ambulante di scarpe senegalese\, si piazza davanti alla sua attività. D’ora in avanti\, tra Milano e il Senegal\, la sua vita cambierà radicalmente. \n\n\n\n\n\n\n\n\nUSCITA CINEMA:\n29/03/2018\n\n\n\n	\n										\n							\n								\n									\n									Share on Facebook\n									Share\n								\n															\n						\n										\n						\n							\n								\n								Share on TwitterTweet\n							\n													\n					\n										\n						\n							\n								Share on LinkedIn\n								Share\n							\n						\n					\n										\n						\n							\n								\n								Send email\n								Mail
URL:https://www.medicinema-italia.org/evento/contromano/
LOCATION:Ospedale Maggiore Niguarda – Spazio Vita\, Piazza dell'ospedale maggiore 3\, Milano\, 20162
CATEGORIES:Niguarda,Proiezioni,Spazio Vita
ATTACH;FMTTYPE=image/jpeg:https://www.medicinema-italia.org/wp-content/uploads/2018/04/coverlg_home-1.jpg
END:VEVENT
BEGIN:VEVENT
DTSTART;TZID=Europe/Rome:20180524T161500
DTEND;TZID=Europe/Rome:20180524T161500
DTSTAMP:20260420T172202
CREATED:20180507T153739Z
LAST-MODIFIED:20180507T153759Z
UID:5534-1527178500-1527178500@www.medicinema-italia.org
SUMMARY:Una festa esagerata
DESCRIPTION:GENERE:\nCommedia\n\n\nTRAMA:\nA casa di Gennaro si sta preparando una grande festa sulla splendida terrazza dove l’uomo vive con Teresa\, moglie che desidera ardentemente salire sempre di più nella scala sociale. Per il diciottesimo compleanno della figlia Mirea\, la donna ha deciso di non badare a spese. In questo contesto\, il sopraggiungere di una notizia inaspettata cambierà ogni cosa…\n\n\nUSCITA CINEMA:\n22/03/2018\n\n\n\n	\n										\n							\n								\n									\n									Share on Facebook\n									Share\n								\n															\n						\n										\n						\n							\n								\n								Share on TwitterTweet\n							\n													\n					\n										\n						\n							\n								Share on LinkedIn\n								Share\n							\n						\n					\n										\n						\n							\n								\n								Send email\n								Mail
URL:https://www.medicinema-italia.org/evento/una-festa-esagerata/
LOCATION:Ospedale Maggiore Niguarda – Spazio Vita\, Piazza dell'ospedale maggiore 3\, Milano\, 20162
CATEGORIES:Niguarda,Proiezioni,Spazio Vita
ATTACH;FMTTYPE=image/jpeg:https://www.medicinema-italia.org/wp-content/uploads/2018/03/una_festa_esagerata_vincenzo_salemme.jpg
END:VEVENT
BEGIN:VEVENT
DTSTART;TZID=Europe/Rome:20180531T161500
DTEND;TZID=Europe/Rome:20180531T161500
DTSTAMP:20260420T172202
CREATED:20180421T202324Z
LAST-MODIFIED:20180421T202324Z
UID:5513-1527783300-1527783300@www.medicinema-italia.org
SUMMARY:Il tuttofare
DESCRIPTION:  \n\n\n\nGENERE:\nCommedia\n\n\nTRAMA:\n\n\n\n\n\n\n\nSalvatore Toti Bellastella è un avvocato alla guida di uno degli studi legali più importanti d’Italia. Sotto la sua direzione lavora Antonio Bonocore\, un bravo praticante che Salvatore utilizza come suo tuttofare. Quando il giovane praticante supera l’esame d’avvocato con ottimi risultati\, Salvatore offrendogli un contratto da 10.000 euro al mese che gli assicuri anche il coinvolgimento nelle cause più importanti. C’è solo un piccolo intoppo: in cambio Antonio dovrà sposare l’amante di Bellastella\, Isabel\, una ragazza argentina che ha bisogno della cittadinanza italiana. \n\n\n\n\n\n\n\n\n\nUSCITA CINEMA:\n19/04/2018\n\n\n\n	\n										\n							\n								\n									\n									Share on Facebook\n									Share\n								\n															\n						\n										\n						\n							\n								\n								Share on TwitterTweet\n							\n													\n					\n										\n						\n							\n								Share on LinkedIn\n								Share\n							\n						\n					\n										\n						\n							\n								\n								Send email\n								Mail
URL:https://www.medicinema-italia.org/evento/il-tuttofare-2/
LOCATION:Ospedale Maggiore Niguarda – Spazio Vita\, Piazza dell'ospedale maggiore 3\, Milano\, 20162
CATEGORIES:Niguarda,Proiezioni,Spazio Vita
ATTACH;FMTTYPE=image/jpeg:https://www.medicinema-italia.org/wp-content/uploads/2018/04/coverlg_home-2.jpg
END:VEVENT
END:VCALENDAR