BEGIN:VCALENDAR
VERSION:2.0
PRODID:-//Medicinema Italia - ECPv6.15.20//NONSGML v1.0//EN
CALSCALE:GREGORIAN
METHOD:PUBLISH
X-ORIGINAL-URL:https://www.medicinema-italia.org
X-WR-CALDESC:Eventi per Medicinema Italia
REFRESH-INTERVAL;VALUE=DURATION:PT1H
X-Robots-Tag:noindex
X-PUBLISHED-TTL:PT1H
BEGIN:VTIMEZONE
TZID:Europe/Rome
BEGIN:DAYLIGHT
TZOFFSETFROM:+0100
TZOFFSETTO:+0200
TZNAME:CEST
DTSTART:20170326T010000
END:DAYLIGHT
BEGIN:STANDARD
TZOFFSETFROM:+0200
TZOFFSETTO:+0100
TZNAME:CET
DTSTART:20171029T010000
END:STANDARD
BEGIN:DAYLIGHT
TZOFFSETFROM:+0100
TZOFFSETTO:+0200
TZNAME:CEST
DTSTART:20180325T010000
END:DAYLIGHT
BEGIN:STANDARD
TZOFFSETFROM:+0200
TZOFFSETTO:+0100
TZNAME:CET
DTSTART:20181028T010000
END:STANDARD
BEGIN:DAYLIGHT
TZOFFSETFROM:+0100
TZOFFSETTO:+0200
TZNAME:CEST
DTSTART:20190331T010000
END:DAYLIGHT
BEGIN:STANDARD
TZOFFSETFROM:+0200
TZOFFSETTO:+0100
TZNAME:CET
DTSTART:20191027T010000
END:STANDARD
END:VTIMEZONE
BEGIN:VEVENT
DTSTART;TZID=Europe/Rome:20180607T161500
DTEND;TZID=Europe/Rome:20180607T161500
DTSTAMP:20260420T155252
CREATED:20180421T201734Z
LAST-MODIFIED:20180509T212632Z
UID:5503-1528388100-1528388100@www.medicinema-italia.org
SUMMARY:Solo: A Star Wars Story
DESCRIPTION:  \n\n\n\nGENERE:\nFantascienza\, Azione\, Avventura\n\n\nTRAMA:\n\n\n\n\n\n\n\nSpinoff della saga di Star Wars dedicato al giovane Han Solo e al suo rapporto con Chewbecca e Lando Calrissian. \n\n\n\n\n\n\n\n\n\nUSCITA CINEMA:\n23/05/2018\n\n\n\n	\n										\n							\n								\n									\n									Share on Facebook\n									Share\n								\n															\n						\n										\n						\n							\n								\n								Share on TwitterTweet\n							\n													\n					\n										\n						\n							\n								Share on LinkedIn\n								Share\n							\n						\n					\n										\n						\n							\n								\n								Send email\n								Mail
URL:https://www.medicinema-italia.org/evento/solo-a-star-wars-story/
LOCATION:Ospedale Maggiore Niguarda – Spazio Vita\, Piazza dell'ospedale maggiore 3\, Milano\, 20162
CATEGORIES:Niguarda,Proiezioni,Spazio Vita
ATTACH;FMTTYPE=image/jpeg:https://www.medicinema-italia.org/wp-content/uploads/2018/04/solo-a-star-wars-story-heist-movie-1103147-1280x0.jpg
END:VEVENT
BEGIN:VEVENT
DTSTART;TZID=Europe/Rome:20180614T161500
DTEND;TZID=Europe/Rome:20180614T161500
DTSTAMP:20260420T155252
CREATED:20180528T205202Z
LAST-MODIFIED:20180528T205202Z
UID:5560-1528992900-1528992900@www.medicinema-italia.org
SUMMARY:Famiglia allargata
DESCRIPTION:  \n\n\n\nGENERE:\nCommedia\, Romantico\n\n\nTRAMA:\n\n\n\n\n\n\nAntoine è uno scapolo amante delle donne che si ritrova a vivere sotto lo stesso tetto con Jeanne dopo che il suo storico coinquilino e amico Thomas deve lasciare la casa per trasferirsi all’estero. Tutto sembra perfetto\, peccato però che Jeanne sia madre di due figli piccoli… \n\n\n\n\n\n\n\n\nUSCITA CINEMA:\n17/05/2018\n\n\n\n	\n										\n							\n								\n									\n									Share on Facebook\n									Share\n								\n															\n						\n										\n						\n							\n								\n								Share on TwitterTweet\n							\n													\n					\n										\n						\n							\n								Share on LinkedIn\n								Share\n							\n						\n					\n										\n						\n							\n								\n								Send email\n								Mail
URL:https://www.medicinema-italia.org/evento/famiglia-allargata-2/
LOCATION:Ospedale Maggiore Niguarda – Spazio Vita\, Piazza dell'ospedale maggiore 3\, Milano\, 20162
CATEGORIES:Niguarda,Proiezioni,Spazio Vita
ATTACH;FMTTYPE=image/jpeg:https://www.medicinema-italia.org/wp-content/uploads/2018/05/coverlg_home.jpg
END:VEVENT
BEGIN:VEVENT
DTSTART;TZID=Europe/Rome:20180621T161500
DTEND;TZID=Europe/Rome:20180621T161500
DTSTAMP:20260420T155252
CREATED:20180528T210248Z
LAST-MODIFIED:20180528T210303Z
UID:5568-1529597700-1529597700@www.medicinema-italia.org
SUMMARY:Io sono Tempesta
DESCRIPTION:  \n\n\n\nGENERE:\nDrammatico\n\n\nTRAMA:\n\n\n\n\n\n\n\nUn uomo di finanza condannato per frode fiscale è costretto a trascorrere 12 mesi ai servizi sociali. \n\n\n\n\n\n\n\n\n\nUSCITA CINEMA:\n12/04/2018\n\n\n\n	\n										\n							\n								\n									\n									Share on Facebook\n									Share\n								\n															\n						\n										\n						\n							\n								\n								Share on TwitterTweet\n							\n													\n					\n										\n						\n							\n								Share on LinkedIn\n								Share\n							\n						\n					\n										\n						\n							\n								\n								Send email\n								Mail
URL:https://www.medicinema-italia.org/evento/io-sono-tempesta/
LOCATION:Ospedale Maggiore Niguarda – Spazio Vita\, Piazza dell'ospedale maggiore 3\, Milano\, 20162
CATEGORIES:Niguarda,Proiezioni,Spazio Vita
ATTACH;FMTTYPE=image/jpeg:https://www.medicinema-italia.org/wp-content/uploads/2018/05/204920396-09b29cec-6cb8-45ca-a24d-f091fb5b217d.jpg
END:VEVENT
BEGIN:VEVENT
DTSTART;TZID=Europe/Rome:20180621T161500
DTEND;TZID=Europe/Rome:20180621T161500
DTSTAMP:20260420T155252
CREATED:20180528T211831Z
LAST-MODIFIED:20180528T211845Z
UID:5578-1529597700-1529597700@www.medicinema-italia.org
SUMMARY:Parigi a piedi nudi
DESCRIPTION:  \n\n\n\nGENERE:\nCommedia\n\n\nTRAMA:\n\n\n\n\n\n\n\n\nLa bibliotecaria canadese Fiona si reca a Parigi per la prima volta al fine di assistere e stare vicino all’anziana zia Martha. Seguiranno molteplici disavventure\, che la coinvolgeranno in particolare insieme al senzatetto Dom. \n\n\n\n\n\n\n\n\n\n\nUSCITA CINEMA:\n17/05/2018\n\n\n\n	\n										\n							\n								\n									\n									Share on Facebook\n									Share\n								\n															\n						\n										\n						\n							\n								\n								Share on TwitterTweet\n							\n													\n					\n										\n						\n							\n								Share on LinkedIn\n								Share\n							\n						\n					\n										\n						\n							\n								\n								Send email\n								Mail
URL:https://www.medicinema-italia.org/evento/parigi-a-piedi-nudi/
LOCATION:Ospedale Maggiore Niguarda – Spazio Vita\, Piazza dell'ospedale maggiore 3\, Milano\, 20162
CATEGORIES:Niguarda,Proiezioni,Spazio Vita
ATTACH;FMTTYPE=image/jpeg:https://www.medicinema-italia.org/wp-content/uploads/2018/05/parigi-piedi-1030x615.jpg
END:VEVENT
END:VCALENDAR