BEGIN:VCALENDAR
VERSION:2.0
PRODID:-//Medicinema Italia - ECPv6.15.20//NONSGML v1.0//EN
CALSCALE:GREGORIAN
METHOD:PUBLISH
X-ORIGINAL-URL:https://www.medicinema-italia.org
X-WR-CALDESC:Eventi per Medicinema Italia
REFRESH-INTERVAL;VALUE=DURATION:PT1H
X-Robots-Tag:noindex
X-PUBLISHED-TTL:PT1H
BEGIN:VTIMEZONE
TZID:Europe/Rome
BEGIN:DAYLIGHT
TZOFFSETFROM:+0100
TZOFFSETTO:+0200
TZNAME:CEST
DTSTART:20170326T010000
END:DAYLIGHT
BEGIN:STANDARD
TZOFFSETFROM:+0200
TZOFFSETTO:+0100
TZNAME:CET
DTSTART:20171029T010000
END:STANDARD
BEGIN:DAYLIGHT
TZOFFSETFROM:+0100
TZOFFSETTO:+0200
TZNAME:CEST
DTSTART:20180325T010000
END:DAYLIGHT
BEGIN:STANDARD
TZOFFSETFROM:+0200
TZOFFSETTO:+0100
TZNAME:CET
DTSTART:20181028T010000
END:STANDARD
BEGIN:DAYLIGHT
TZOFFSETFROM:+0100
TZOFFSETTO:+0200
TZNAME:CEST
DTSTART:20190331T010000
END:DAYLIGHT
BEGIN:STANDARD
TZOFFSETFROM:+0200
TZOFFSETTO:+0100
TZNAME:CET
DTSTART:20191027T010000
END:STANDARD
END:VTIMEZONE
BEGIN:VEVENT
DTSTART;TZID=Europe/Rome:20180802T161500
DTEND;TZID=Europe/Rome:20180802T161500
DTSTAMP:20260420T131815
CREATED:20180703T020128Z
LAST-MODIFIED:20180703T020143Z
UID:5712-1533226500-1533226500@www.medicinema-italia.org
SUMMARY:Hotel Gagarin
DESCRIPTION:  \n\n\n\nGENERE:\nCommedia\n\n\nTRAMA:\n\n\n\n\n\n\n\n\n\nCinque italiani in cerca di un’occasione vengono mandati a girare un film in Armenia. Non appena giunti in loco\, però\, scoppia una guerra e il produttore scappa con i soldi. Abbandonati a loro stessi all’interno dell’isolato Hotel Gagarin\, i cinque troveranno il modo per inventarsi i presupposti per un’inaspettata occasione di felicità… \n\n\n\n\n\n\n\n\n\n\n\nUSCITA CINEMA:\n24/05/2018\n\n\n\n	\n										\n							\n								\n									\n									Share on Facebook\n									Share\n								\n															\n						\n										\n						\n							\n								\n								Share on TwitterTweet\n							\n													\n					\n										\n						\n							\n								Share on LinkedIn\n								Share\n							\n						\n					\n										\n						\n							\n								\n								Send email\n								Mail
URL:https://www.medicinema-italia.org/evento/hotel-gagarin/
LOCATION:Ospedale Maggiore Niguarda – Spazio Vita\, Piazza dell'ospedale maggiore 3\, Milano\, 20162
CATEGORIES:Niguarda,Proiezioni,Spazio Vita
ATTACH;FMTTYPE=image/jpeg:https://www.medicinema-italia.org/wp-content/uploads/2018/07/DSC_7480M-_CREDITI_ANDREA-MICONI-min-620x340.jpg
END:VEVENT
BEGIN:VEVENT
DTSTART;TZID=Europe/Rome:20180830T161500
DTEND;TZID=Europe/Rome:20180830T161500
DTSTAMP:20260420T131815
CREATED:20180722T151755Z
LAST-MODIFIED:20180722T151821Z
UID:5725-1535645700-1535645700@www.medicinema-italia.org
SUMMARY:L'incredibile viaggio del fachiro
DESCRIPTION:  \n\n\n\nGENERE:\nDrammatico\n\n\nTRAMA:\n\n\n\n\n\n\n\n\n\n\nUn fachiro indiano decide di abbandonare il suo paese per recarsi in Europa: il suo obiettivo è andare all’Ikea per farsi costruire un nuovo letto di chiodi. Nel tragitto il fachiro affronterà una serie di avventure\, verrà arrestato e troverà l’amore. \n\n\n\n\n\n\n\n\n\n\n\n\nUSCITA CINEMA:\n04/07/2018\n\n\n\n	\n										\n							\n								\n									\n									Share on Facebook\n									Share\n								\n															\n						\n										\n						\n							\n								\n								Share on TwitterTweet\n							\n													\n					\n										\n						\n							\n								Share on LinkedIn\n								Share\n							\n						\n					\n										\n						\n							\n								\n								Send email\n								Mail
URL:https://www.medicinema-italia.org/evento/lincredibile-viaggio-del-fachiro/
LOCATION:Ospedale Maggiore Niguarda – Spazio Vita\, Piazza dell'ospedale maggiore 3\, Milano\, 20162
CATEGORIES:Niguarda,Proiezioni,Spazio Vita
ATTACH;FMTTYPE=image/jpeg:https://www.medicinema-italia.org/wp-content/uploads/2018/07/coverlg_home-5.jpg
END:VEVENT
END:VCALENDAR